Workbook
Name DOCENTE: 'DOCENTE CONTRATO ESPECIAL'!$B$24:$B$26
Name FORMACION: INGRESOS!$A$104:$A$110
Name FORMAL_Y_NO_FORMAL: INGRESOS!$C$104:$C$111

Sheet CONSOLIDADO
B2: #VALUE! | C2: #VALUE! | D2: FORMATO Presupuesto para el Ministerio de Educación Nacional | K2: Código: R-PO003
K3: Versión: 014
D4: PROCESO Planeación Financiera | K4: Fecha de vigencia: 03/08/2026
B6: NOMBRE CENTRO DE COSTO | J6: RESPONSABLE
B7: No. ASISTENTES | C7: =CONCATENATE('ESTUDIANTES Y DOCENTES'!C11," (",'ESTUDIANTES Y DOCENTES'!AI32," grupos)") -> 0 (0 grupos) | J7: CENTRO DE COSTO | P7: DILIGENCIE SOLO LAS CELDAS EN COLOR GRIS ACORDE CON LA INSTRUCCIÓN DE LA NOTA
B8: FECHA INICIO | K8: FECHA DE TERMINACIÓN
B9: VR INSCRIPCIÓN | C9: VER ANEXO | J9: VALOR MATRICULA | L9: VER ANEXO
B10: JORNADA | C10: TODAS | K10: DERECHOS DE GRADO | L10: VER ANEXO
B11: CONCEPTO | F11: 2027 | G11: =F11+1 -> 2028 | H11: =G11+1 -> 2029 | I11: =H11+1 -> 2030 | J11: =I11+1 -> 2031 | K11: =J11+1 -> 2032 | L11: =K11+1 -> 2033
B13: 1. INGRESOS
B14: EDUCACIÓN FORMAL - SUPERIOR TÉCNICO PROFESIONAL
B15: Técnico Profesional - Inscripción | F15: =IF(INGRESOS!$A$7="TECNICO",INGRESOS!Q14,0) -> 0 | G15: =IF(INGRESOS!$A$7="TECNICO",INGRESOS!R14,0) -> 0 | H15: =IF(INGRESOS!$A$7="TECNICO",INGRESOS!S14,0) -> 0 | I15: =IF(INGRESOS!$A$7="TECNICO",INGRESOS!T14,0) -> 0 | J15: =IF(INGRESOS!$A$7="TECNICO",INGRESOS!U14,0) -> 0 | K15: =IF(INGRESOS!$A$7="TECNICO",INGRESOS!V14,0) -> 0 | L15: =IF(INGRESOS!$A$7="TECNICO",INGRESOS!W14,0) -> 0
B16: Técnico Profesional - Matricula | F16: =IF(INGRESOS!$A$7="TECNICO",INGRESOS!Q47,0) -> 0 | G16: =IF(INGRESOS!$A$7="TECNICO",INGRESOS!R47,0) -> 0 | H16: =IF(INGRESOS!$A$7="TECNICO",INGRESOS!S47,0) -> 0 | I16: =IF(INGRESOS!$A$7="TECNICO",INGRESOS!T47,0) -> 0 | J16: =IF(INGRESOS!$A$7="TECNICO",INGRESOS!U47,0) -> 0 | K16: =IF(INGRESOS!$A$7="TECNICO",INGRESOS!V47,0) -> 0 | L16: =IF(INGRESOS!$A$7="TECNICO",INGRESOS!W47,0) -> 0
B17: Técnico Profesional - Derechos Academicos | F17: =IF(INGRESOS!$A$7="TECNICO",INGRESOS!Q54,0) -> 0 | G17: =IF(INGRESOS!$A$7="TECNICO",INGRESOS!R54,0) -> 0 | H17: =IF(INGRESOS!$A$7="TECNICO",INGRESOS!S54,0) -> 0 | I17: =IF(INGRESOS!$A$7="TECNICO",INGRESOS!T54,0) -> 0 | J17: =IF(INGRESOS!$A$7="TECNICO",INGRESOS!U54,0) -> 0 | K17: =IF(INGRESOS!$A$7="TECNICO",INGRESOS!V54,0) -> 0 | L17: =IF(INGRESOS!$A$7="TECNICO",INGRESOS!W54,0) -> 0
B18: Técnico Profesional - Otros ingresos | F18: =IF(INGRESOS!$A$7="TECNICO",INGRESOS!Q68,0) -> 0 | G18: =IF(INGRESOS!$A$7="TECNICO",INGRESOS!R68,0) -> 0 | H18: =IF(INGRESOS!$A$7="TECNICO",INGRESOS!S68,0) -> 0 | I18: =IF(INGRESOS!$A$7="TECNICO",INGRESOS!T68,0) -> 0 | J18: =IF(INGRESOS!$A$7="TECNICO",INGRESOS!U68,0) -> 0 | K18: =IF(INGRESOS!$A$7="TECNICO",INGRESOS!V68,0) -> 0 | L18: =IF(INGRESOS!$A$7="TECNICO",INGRESOS!W68,0) -> 0
B19: Técnico Profesional - Devoluciones | D19: 0 | F19: =-F$16*$D19 -> 0 | G19: =-G$16*$D19 -> 0 | H19: =-H$16*$D19 -> 0 | I19: =-I$16*$D19 -> 0 | J19: =-J$16*$D19 -> 0 | K19: =-K$16*$D19 -> 0 | L19: =-L$16*$D19 -> 0
B20: Técnico Profesional - Descuentos | D20: 0.1 | F20: =-F$16*$D20 -> 0 | G20: =-G$16*$D20 -> 0 | H20: =-H$16*$D20 -> 0 | I20: =-I$16*$D20 -> 0 | J20: =-J$16*$D20 -> 0 | K20: =-K$16*$D20 -> 0 | L20: =-L$16*$D20 -> 0
B21: Técnico Profesional - Becas | D21: 50% Y 100% | E21: =-IF(SUM(F16:J16)>0,SUM(F21:J21)/SUM(F16:J16),0) -> 0 | F21: =-IF(INGRESOS!$A$7="TECNICO",INGRESOS!Q75,0) -> 0 | G21: =-IF(INGRESOS!$A$7="TECNICO",INGRESOS!R75,0) -> 0 | H21: =-IF(INGRESOS!$A$7="TECNICO",INGRESOS!S75,0) -> 0 | I21: =-IF(INGRESOS!$A$7="TECNICO",INGRESOS!T75,0) -> 0 | J21: =-IF(INGRESOS!$A$7="TECNICO",INGRESOS!U75,0) -> 0 | K21: =-IF(INGRESOS!$A$7="TECNICO",INGRESOS!V75,0) -> 0 | L21: =-IF(INGRESOS!$A$7="TECNICO",INGRESOS!W75,0) -> 0
B22: EDUCACIÓN FORMAL - SUPERIOR TECNOLÓGICA
B23: Tecnológica - Inscripción | F23: =IF(INGRESOS!$A$7="TECNOLOGICO",INGRESOS!Q14,0) -> 0 | G23: =IF(INGRESOS!$A$7="TECNOLOGICO",INGRESOS!R14,0) -> 0 | H23: =IF(INGRESOS!$A$7="TECNOLOGICO",INGRESOS!S14,0) -> 0 | I23: =IF(INGRESOS!$A$7="TECNOLOGICO",INGRESOS!T14,0) -> 0 | J23: =IF(INGRESOS!$A$7="TECNOLOGICO",INGRESOS!U14,0) -> 0 | K23: =IF(INGRESOS!$A$7="TECNOLOGICO",INGRESOS!V14,0) -> 0 | L23: =IF(INGRESOS!$A$7="TECNOLOGICO",INGRESOS!W14,0) -> 0
B24: Tecnológica - Matricula | F24: =IF(INGRESOS!$A$7="TECNOLOGICO",INGRESOS!Q47,0) -> 0 | G24: =IF(INGRESOS!$A$7="TECNOLOGICO",INGRESOS!R47,0) -> 0 | H24: =IF(INGRESOS!$A$7="TECNOLOGICO",INGRESOS!S47,0) -> 0 | I24: =IF(INGRESOS!$A$7="TECNOLOGICO",INGRESOS!T47,0) -> 0 | J24: =IF(INGRESOS!$A$7="TECNOLOGICO",INGRESOS!U47,0) -> 0 | K24: =IF(INGRESOS!$A$7="TECNOLOGICO",INGRESOS!V47,0) -> 0 | L24: =IF(INGRESOS!$A$7="TECNOLOGICO",INGRESOS!W47,0) -> 0
B25: Tecnológica - Derechos Academicos | F25: =IF(INGRESOS!$A$7="TECNOLOGICO",INGRESOS!Q54,0) -> 0 | G25: =IF(INGRESOS!$A$7="TECNOLOGICO",INGRESOS!R54,0) -> 0 | H25: =IF(INGRESOS!$A$7="TECNOLOGICO",INGRESOS!S54,0) -> 0 | I25: =IF(INGRESOS!$A$7="TECNOLOGICO",INGRESOS!T54,0) -> 0 | J25: =IF(INGRESOS!$A$7="TECNOLOGICO",INGRESOS!U54,0) -> 0 | K25: =IF(INGRESOS!$A$7="TECNOLOGICO",INGRESOS!V54,0) -> 0 | L25: =IF(INGRESOS!$A$7="TECNOLOGICO",INGRESOS!W54,0) -> 0
B26: Tecnológica - Otros ingresos | F26: =IF(INGRESOS!$A$7="TECNOLOGICO",INGRESOS!Q68,0) -> 0 | G26: =IF(INGRESOS!$A$7="TECNOLOGICO",INGRESOS!R68,0) -> 0 | H26: =IF(INGRESOS!$A$7="TECNOLOGICO",INGRESOS!S68,0) -> 0 | I26: =IF(INGRESOS!$A$7="TECNOLOGICO",INGRESOS!T68,0) -> 0 | J26: =IF(INGRESOS!$A$7="TECNOLOGICO",INGRESOS!U68,0) -> 0 | K26: =IF(INGRESOS!$A$7="TECNOLOGICO",INGRESOS!V68,0) -> 0 | L26: =IF(INGRESOS!$A$7="TECNOLOGICO",INGRESOS!W68,0) -> 0
B27: Tecnológica - Devoluciones | D27: 0 | F27: =-F$24*$D27 -> 0 | G27: =-G$24*$D27 -> 0 | H27: =-H$24*$D27 -> 0 | I27: =-I$24*$D27 -> 0 | J27: =-J$24*$D27 -> 0 | K27: =-K$24*$D27 -> 0 | L27: =-L$24*$D27 -> 0
B28: Tecnológica - Descuentos | D28: 0.1 | F28: =-F$24*$D28 -> 0 | G28: =-G$24*$D28 -> 0 | H28: =-H$24*$D28 -> 0 | I28: =-I$24*$D28 -> 0 | J28: =-J$24*$D28 -> 0 | K28: =-K$24*$D28 -> 0 | L28: =-L$24*$D28 -> 0
B29: Tecnológica - Becas | D29: 50% Y 100% | E29: =-IF(SUM(F24:J24)>0,SUM(F29:J29)/SUM(F24:J24),0) -> 0 | F29: =-IF(INGRESOS!$A$7="TECNOLOGICO",INGRESOS!Q75,0) -> 0 | G29: =-IF(INGRESOS!$A$7="TECNOLOGICO",INGRESOS!R75,0) -> 0 | H29: =-IF(INGRESOS!$A$7="TECNOLOGICO",INGRESOS!S75,0) -> 0 | I29: =-IF(INGRESOS!$A$7="TECNOLOGICO",INGRESOS!T75,0) -> 0 | J29: =-IF(INGRESOS!$A$7="TECNOLOGICO",INGRESOS!U75,0) -> 0 | K29: =-IF(INGRESOS!$A$7="TECNOLOGICO",INGRESOS!V75,0) -> 0 | L29: =-IF(INGRESOS!$A$7="TECNOLOGICO",INGRESOS!W75,0) -> 0
B30: EDUCACIÓN FORMAL - SUPERIOR PROFESIONAL
B31: Profesional - Inscripción | F31: =IF(INGRESOS!$A$7="PROFESIONAL",INGRESOS!Q14,0) -> 0 | G31: =IF(INGRESOS!$A$7="PROFESIONAL",INGRESOS!R14,0) -> 0 | H31: =IF(INGRESOS!$A$7="PROFESIONAL",INGRESOS!S14,0) -> 0 | I31: =IF(INGRESOS!$A$7="PROFESIONAL",INGRESOS!T14,0) -> 0 | J31: =IF(INGRESOS!$A$7="PROFESIONAL",INGRESOS!U14,0) -> 0 | K31: =IF(INGRESOS!$A$7="PROFESIONAL",INGRESOS!V14,0) -> 0 | L31: =IF(INGRESOS!$A$7="PROFESIONAL",INGRESOS!W14,0) -> 0
B32: Profesional - Matricula | F32: =IF(INGRESOS!$A$7="PROFESIONAL",INGRESOS!Q47,0) -> 0 | G32: =IF(INGRESOS!$A$7="PROFESIONAL",INGRESOS!R47,0) -> 0 | H32: =IF(INGRESOS!$A$7="PROFESIONAL",INGRESOS!S47,0) -> 0 | I32: =IF(INGRESOS!$A$7="PROFESIONAL",INGRESOS!T47,0) -> 0 | J32: =IF(INGRESOS!$A$7="PROFESIONAL",INGRESOS!U47,0) -> 0 | K32: =IF(INGRESOS!$A$7="PROFESIONAL",INGRESOS!V47,0) -> 0 | L32: =IF(INGRESOS!$A$7="PROFESIONAL",INGRESOS!W47,0) -> 0
B33: Profesional - Derechos Academicos | F33: =IF(INGRESOS!$A$7="PROFESIONAL",INGRESOS!Q54,0) -> 0 | G33: =IF(INGRESOS!$A$7="PROFESIONAL",INGRESOS!R54,0) -> 0 | H33: =IF(INGRESOS!$A$7="PROFESIONAL",INGRESOS!S54,0) -> 0 | I33: =IF(INGRESOS!$A$7="PROFESIONAL",INGRESOS!T54,0) -> 0 | J33: =IF(INGRESOS!$A$7="PROFESIONAL",INGRESOS!U54,0) -> 0 | K33: =IF(INGRESOS!$A$7="PROFESIONAL",INGRESOS!V54,0) -> 0 | L33: =IF(INGRESOS!$A$7="PROFESIONAL",INGRESOS!W54,0) -> 0
B34: Profesional - Otros ingresos | F34: =IF(INGRESOS!$A$7="PROFESIONAL",INGRESOS!Q68,0) -> 0 | G34: =IF(INGRESOS!$A$7="PROFESIONAL",INGRESOS!R68,0) -> 0 | H34: =IF(INGRESOS!$A$7="PROFESIONAL",INGRESOS!S68,0) -> 0 | I34: =IF(INGRESOS!$A$7="PROFESIONAL",INGRESOS!T68,0) -> 0 | J34: =IF(INGRESOS!$A$7="PROFESIONAL",INGRESOS!U68,0) -> 0 | K34: =IF(INGRESOS!$A$7="PROFESIONAL",INGRESOS!V68,0) -> 0 | L34: =IF(INGRESOS!$A$7="PROFESIONAL",INGRESOS!W68,0) -> 0
B35: Profesional - Devoluciones | F35: =-F$32*$D35 -> 0 | G35: =-G$32*$D35 -> 0 | H35: =-H$32*$D35 -> 0 | I35: =-I$32*$D35 -> 0 | J35: =-J$32*$D35 -> 0 | K35: =-K$32*$D35 -> 0 | L35: =-L$32*$D35 -> 0
B36: Profesional - Descuentos | E36: 0.1 | F36: =-F$32*$E36 -> 0 | G36: =-G$32*$E36 -> 0 | H36: =-H$32*$E36 -> 0 | I36: =-I$32*$E36 -> 0 | J36: =-J$32*$E36 -> 0 | K36: =-K$32*$E36 -> 0 | L36: =-L$32*$E36 -> 0
B37: Profesional - Becas 50% Y 100% | E37: =-IF(SUM(F32:J32)>0,SUM(F37:J37)/SUM(F32:J32),0) -> 0 | F37: =-IF(INGRESOS!$A$7="PROFESIONAL",INGRESOS!Q75,0) -> 0 | G37: =-IF(INGRESOS!$A$7="PROFESIONAL",INGRESOS!R75,0) -> 0 | H37: =-IF(INGRESOS!$A$7="PROFESIONAL",INGRESOS!S75,0) -> 0 | I37: =-IF(INGRESOS!$A$7="PROFESIONAL",INGRESOS!T75,0) -> 0 | J37: =-IF(INGRESOS!$A$7="PROFESIONAL",INGRESOS!U75,0) -> 0 | K37: =-IF(INGRESOS!$A$7="PROFESIONAL",INGRESOS!V75,0) -> 0 | L37: =-IF(INGRESOS!$A$7="PROFESIONAL",INGRESOS!W75,0) -> 0
B38: EDUCACIÓN FORMAL - SUPERIOR POSTGRADOS
B39: Postgrados - Inscripción | F39: =IF(INGRESOS!$A$7="POSTGRADO",INGRESOS!Q14,0) -> 0 | G39: =IF(INGRESOS!$A$7="POSTGRADO",INGRESOS!R14,0) -> 0 | H39: =IF(INGRESOS!$A$7="POSTGRADO",INGRESOS!S14,0) -> 0 | I39: =IF(INGRESOS!$A$7="POSTGRADO",INGRESOS!T14,0) -> 0 | J39: =IF(INGRESOS!$A$7="POSTGRADO",INGRESOS!U14,0) -> 0 | K39: =IF(INGRESOS!$A$7="POSTGRADO",INGRESOS!V14,0) -> 0 | L39: =IF(INGRESOS!$A$7="POSTGRADO",INGRESOS!W14,0) -> 0
B40: Postgrados - Matricula | F40: =IF(INGRESOS!$A$7="POSTGRADO",INGRESOS!Q47,0) -> 0 | G40: =IF(INGRESOS!$A$7="POSTGRADO",INGRESOS!R47,0) -> 0 | H40: =IF(INGRESOS!$A$7="POSTGRADO",INGRESOS!S47,0) -> 0 | I40: =IF(INGRESOS!$A$7="POSTGRADO",INGRESOS!T47,0) -> 0 | J40: =IF(INGRESOS!$A$7="POSTGRADO",INGRESOS!U47,0) -> 0 | K40: =IF(INGRESOS!$A$7="POSTGRADO",INGRESOS!V47,0) -> 0 | L40: =IF(INGRESOS!$A$7="POSTGRADO",INGRESOS!W47,0) -> 0
B41: Postgrados - Derechos Academicos | F41: =IF(INGRESOS!$A$7="POSTGRADO",INGRESOS!Q54,0) -> 0 | G41: =IF(INGRESOS!$A$7="POSTGRADO",INGRESOS!R54,0) -> 0 | H41: =IF(INGRESOS!$A$7="POSTGRADO",INGRESOS!S54,0) -> 0 | I41: =IF(INGRESOS!$A$7="POSTGRADO",INGRESOS!T54,0) -> 0 | J41: =IF(INGRESOS!$A$7="POSTGRADO",INGRESOS!U54,0) -> 0 | K41: =IF(INGRESOS!$A$7="POSTGRADO",INGRESOS!V54,0) -> 0 | L41: =IF(INGRESOS!$A$7="POSTGRADO",INGRESOS!W54,0) -> 0
B42: Postgrados - Otros ingresos | F42: =IF(INGRESOS!$A$7="POSTGRADO",INGRESOS!Q68,0) -> 0 | G42: =IF(INGRESOS!$A$7="POSTGRADO",INGRESOS!R68,0) -> 0 | H42: =IF(INGRESOS!$A$7="POSTGRADO",INGRESOS!S68,0) -> 0 | I42: =IF(INGRESOS!$A$7="POSTGRADO",INGRESOS!T68,0) -> 0 | J42: =IF(INGRESOS!$A$7="POSTGRADO",INGRESOS!U68,0) -> 0 | K42: =IF(INGRESOS!$A$7="POSTGRADO",INGRESOS!V68,0) -> 0 | L42: =IF(INGRESOS!$A$7="POSTGRADO",INGRESOS!W68,0) -> 0
B43: Postgrados - Devoluciones | D43: 0 | F43: =-F$40*$D43 -> 0 | G43: =-G$40*$D43 -> 0 | H43: =-H$40*$D43 -> 0 | I43: =-I$40*$D43 -> 0 | J43: =-J$40*$D43 -> 0 | K43: =-K$40*$D43 -> 0 | L43: =-L$40*$D43 -> 0
...

Sheet INGRESOS
A2: #VALUE! | E2: #VALUE! | I2: FORMATO Presupuesto para el Ministerio de Educación Nacional | Y2: Código: R-PO003
Y3: Versión: 014
I4: PROCESO Planeación Financiera | Y4: Fecha de vigencia:03/08/2026
A6: ANEXOS INGRESOS | I6: DILIGENCIE SOLO LAS CELDAS EN COLOR GRIS ACORDE CON LA INSTRUCCIÓN DE LA NOTA | AA6: Semestral
A7: PROFESIONAL | Q7: Ajuste anual | R7: 0.05 | AA7: Anual
AA8: Una Cohorte
A10: INGRESO POR INSCRIPCIONES | I10: Periodicidad de admisión: | J10: Semestral
Q11: =P14 -> 108149 | R11: =+Q11*(1+$R$7) -> 113556.45 | S11: =+R11*(1+$R$7) -> 119234.27 | T11: =+S11*(1+$R$7) -> 125195.99 | U11: =+T11*(1+$R$7) -> 131455.79 | V11: =+U11*(1+$R$7) -> 138028.57 | W11: =+V11*(1+$R$7) -> 144930
A12: CURSO | B12: =CONSOLIDADO!F11 -> 2027 | D12: =CONSOLIDADO!G11 -> 2028 | F12: =CONSOLIDADO!H11 -> 2029 | H12: =CONSOLIDADO!I11 -> 2030 | J12: =CONSOLIDADO!J11 -> 2031 | L12: =CONSOLIDADO!K11 -> 2032 | N12: =CONSOLIDADO!L11 -> 2033 | P12: Vr. Derechos | Q12: =B12 -> 2027 | R12: =D12 -> 2028 | S12: =F12 -> 2029 | T12: =H12 -> 2030 | U12: =J12 -> 2031 | V12: =L12 -> 2032 | W12: =N12 -> 2033 | Y12: NO Matriculados | Z12: % Absorción
B13: PERIODO A | C13: PERIODO B | D13: PERIODO A | E13: PERIODO B | F13: PERIODO A | G13: PERIODO B | H13: PERIODO A | I13: PERIODO B | J13: PERIODO A | K13: PERIODO B | L13: PERIODO A | M13: PERIODO B | N13: PERIODO A | O13: PERIODO B
C14: =IF(J10=AA6,B14,0) -> 0 | D14: =IF(J10=AA8,0,B14) -> 0 | E14: =C14 -> 0 | F14: =D14 -> 0 | G14: =E14 -> 0 | H14: =F14 -> 0 | I14: =G14 -> 0 | J14: =H14 -> 0 | K14: =I14 -> 0 | L14: =J14 -> 0 | ... O14: =M14 -> 0 | P14: 108149 | Q14: =(B14+C14)*Q$11 -> 0 | R14: =(D14+E14)*R$11 -> 0 | S14: =(F14+G14)*S$11 -> 0 | T14: =(H14+I14)*T$11 -> 0 | U14: =(J14+K14)*U$11 -> 0 | V14: =(L14+M14)*V$11 -> 0 | W14: =(N14+O14)*W$11 -> 0 | Z14: =IF(B14=0,"No aplica",B35/B14) -> No aplica
A17: INGRESO EXTENSIVA Y CONTINUADA
A19: CURSO | B19: =B$12 -> 2027 | D19: =D$12 -> 2028 | F19: =F$12 -> 2029 | H19: =H$12 -> 2030 | J19: =J$12 -> 2031 | L19: =L$12 -> 2032 | N19: =N$12 -> 2033 | P19: Vr. Matricula | Q19: =Q$12 -> 2027 | R19: =R$12 -> 2028 | S19: =S$12 -> 2029 | T19: =T$12 -> 2030 | U19: =U$12 -> 2031 | V19: =V$12 -> 2032 | W19: =W$12 -> 2033
B20: =B$13 -> PERIODO A | C20: =C$13 -> PERIODO B | D20: =D$13 -> PERIODO A | E20: =E$13 -> PERIODO B | F20: =F$13 -> PERIODO A | G20: =G$13 -> PERIODO B | H20: =H$13 -> PERIODO A | I20: =I$13 -> PERIODO B | ... O20: =O$13 -> PERIODO B
A21: Congresos | Q21: =(B21+C21)*$P21 -> 0 | R21: =(D21+E21)*$P21*(1+$R$7) -> 0 | S21: =(F21+G21)*$P21*(1+$R$7)^2 -> 0 | T21: =(H21+I21)*$P21*(1+$R$7)^3 -> 0 | U21: =(J21+K21)*$P21*(1+$R$7)^4 -> 0 | V21: =(L21+M21)*$P21*(1+$R$7)^5 -> 0 | W21: =(N21+O21)*$P21*(1+$R$7)^6 -> 0
A22: Diplomados | Q22: =(B22+C22)*$P22 -> 0 | R22: =(D22+E22)*$P22*(1+$R$7) -> 0 | S22: =(F22+G22)*$P22*(1+$R$7)^2 -> 0 | T22: =(H22+I22)*$P22*(1+$R$7)^3 -> 0 | U22: =(J22+K22)*$P22*(1+$R$7)^4 -> 0 | V22: =(L22+M22)*$P22*(1+$R$7)^5 -> 0 | W22: =(N22+O22)*$P22*(1+$R$7)^6 -> 0
A23: Seminarios | Q23: =(B23+C23)*$P23 -> 0 | R23: =(D23+E23)*$P23*(1+$R$7) -> 0 | S23: =(F23+G23)*$P23*(1+$R$7)^2 -> 0 | T23: =(H23+I23)*$P23*(1+$R$7)^3 -> 0 | U23: =(J23+K23)*$P23*(1+$R$7)^4 -> 0 | V23: =(L23+M23)*$P23*(1+$R$7)^5 -> 0 | W23: =(N23+O23)*$P23*(1+$R$7)^6 -> 0
A24: Cursos Actualización | Q24: =(B24+C24)*$P24 -> 0 | R24: =(D24+E24)*$P24*(1+$R$7) -> 0 | S24: =(F24+G24)*$P24*(1+$R$7)^2 -> 0 | T24: =(H24+I24)*$P24*(1+$R$7)^3 -> 0 | U24: =(J24+K24)*$P24*(1+$R$7)^4 -> 0 | V24: =(L24+M24)*$P24*(1+$R$7)^5 -> 0 | W24: =(N24+O24)*$P24*(1+$R$7)^6 -> 0
A25: Conferencias | Q25: =(B25+C25)*$P25 -> 0 | R25: =(D25+E25)*$P25*(1+$R$7) -> 0 | S25: =(F25+G25)*$P25*(1+$R$7)^2 -> 0 | T25: =(H25+I25)*$P25*(1+$R$7)^3 -> 0 | U25: =(J25+K25)*$P25*(1+$R$7)^4 -> 0 | V25: =(L25+M25)*$P25*(1+$R$7)^5 -> 0 | W25: =(N25+O25)*$P25*(1+$R$7)^6 -> 0
A26: Talleres | Q26: =(B26+C26)*$P26 -> 0 | R26: =(D26+E26)*$P26*(1+$R$7) -> 0 | S26: =(F26+G26)*$P26*(1+$R$7)^2 -> 0 | T26: =(H26+I26)*$P26*(1+$R$7)^3 -> 0 | U26: =(J26+K26)*$P26*(1+$R$7)^4 -> 0 | V26: =(K26+L26)*$P26*(1+$R$7)^4 -> 0 | W26: =(L26+M26)*$P26*(1+$R$7)^4 -> 0
A27: Otros | Q27: =(B27+C27)*$P27 -> 0 | R27: =(D27+E27)*$P27*(1+$R$7) -> 0 | S27: =(F27+G27)*$P27*(1+$R$7)^2 -> 0 | T27: =(H27+I27)*$P27*(1+$R$7)^3 -> 0 | U27: =(J27+K27)*$P27*(1+$R$7)^4 -> 0 | V27: =(K27+L27)*$P27*(1+$R$7)^4 -> 0 | W27: =(L27+M27)*$P27*(1+$R$7)^4 -> 0
A30: INGRESO POR MATRICULAS | I30: Niveles plan de estudio | J30: 12
B32: No. ESTUDIANTES | Q32: =P35 -> 0 | R32: =+Q32*(1+$R$7) -> 0 | S32: =+R32*(1+$R$7) -> 0 | T32: =+S32*(1+$R$7) -> 0 | U32: =+T32*(1+$R$7) -> 0 | V32: =+U32*(1+$R$7) -> 0 | W32: =+V32*(1+$R$7) -> 0
A33: NIVEL | B33: =B$12 -> 2027 | D33: =D$12 -> 2028 | F33: =F$12 -> 2029 | H33: =H$12 -> 2030 | J33: =J$12 -> 2031 | L33: =L$12 -> 2032 | N33: =N$12 -> 2033 | P33: Vr. Matricula | Q33: =Q$12 -> 2027 | R33: =R$12 -> 2028 | S33: =S$12 -> 2029 | T33: =T$12 -> 2030 | U33: =U$12 -> 2031 | V33: =V$12 -> 2032 | W33: =W$12 -> 2033
B34: =B$13 -> PERIODO A | C34: =C$13 -> PERIODO B | D34: =D$13 -> PERIODO A | E34: =E$13 -> PERIODO B | F34: =F$13 -> PERIODO A | G34: =G$13 -> PERIODO B | H34: =H$13 -> PERIODO A | I34: =I$13 -> PERIODO B | ... O34: =O$13 -> PERIODO B | X34: No. | Y34: Deserción | Z34: % Deserción Acumulada | AA34: Matriculados Periodo actual
A35: Primero | B35: =IF(B14>Y14,B14-$Y14,0) -> 0 | C35: =IF(C14>0,C14-$Y14,0) -> 0 | D35: =IF(D14>0,D14-$Y14,0) -> 0 | E35: =IF(E14>0,E14-$Y14,0) -> 0 | F35: =IF(F14>0,F14-$Y14,0) -> 0 | G35: =IF(G14>0,G14-$Y14,0) -> 0 | H35: =IF(H14>0,H14-$Y14,0) -> 0 | I35: =IF(I14>0,I14-$Y14,0) -> 0 | J35: =IF(J14>0,J14-$Y14,0) -> 0 | ... O35: =IF(O14>0,O14-$Y14,0) -> 0 | Q35: =(B35+C35)*Q$32 -> 0 | R35: =(D35+E35)*R$32 -> 0 | S35: =(F35+G35)*S$32 -> 0 | T35: =(H35+I35)*T$32 -> 0 | U35: =(J35+K35)*U$32 -> 0 | V35: =(L35+M35)*V$32 -> 0 | W35: =(N35+O35)*W$32 -> 0 | X35: 1
A36: Segundo | B36: =IF($X36>$J$30,0,IF(AA35=0,0,AA35-$Y35)) -> 0 | C36: =IF($X36>$J$30,0,IF(B35=0,0,B35-$Y35)) -> 0 | D36: =IF($X36>$J$30,0,IF(C35=0,0,C35-$Y35)) -> 0 | E36: =IF($X36>$J$30,0,IF(D35=0,0,D35-$Y35)) -> 0 | F36: =IF($X36>$J$30,0,IF(E35=0,0,E35-$Y35)) -> 0 | G36: =IF($X36>$J$30,0,IF(F35=0,0,F35-$Y35)) -> 0 | H36: =IF($X36>$J$30,0,IF(G35=0,0,G35-$Y35)) -> 0 | I36: =IF($X36>$J$30,0,IF(H35=0,0,H35-$Y35)) -> 0 | J36: =IF($X36>$J$30,0,IF(I35=0,0,I35-$Y35)) -> 0 | ... O36: =IF($X36>$J$30,0,IF(N35=0,0,N35-$Y35)) -> 0 | Q36: =(B36+C36)*Q$32 -> 0 | R36: =(D36+E36)*R$32 -> 0 | S36: =(F36+G36)*S$32 -> 0 | T36: =(H36+I36)*T$32 -> 0 | U36: =(J36+K36)*U$32 -> 0 | V36: =(L36+M36)*V$32 -> 0 | W36: =(N36+O36)*W$32 -> 0 | X36: 2 | Z36: =IF(X35<$J$30,IF($B$35>0,SUM($Y$35:Y35)/$B$35,0),0) -> 0
A37: Tercero | B37: =IF($X37>$J$30,0,IF(AA36=0,0,AA36-$Y36)) -> 0 | C37: =IF($X37>$J$30,0,IF($Y36>B36,0,B36-$Y36)) -> 0 | D37: =IF($X37>$J$30,0,IF(C36=0,0,C36-$Y36)) -> 0 | E37: =IF($X37>$J$30,0,IF(D36=0,0,D36-$Y36)) -> 0 | F37: =IF($X37>$J$30,0,IF(E36=0,0,E36-$Y36)) -> 0 | G37: =IF($X37>$J$30,0,IF(F36=0,0,F36-$Y36)) -> 0 | H37: =IF($X37>$J$30,0,IF(G36=0,0,G36-$Y36)) -> 0 | I37: =IF($X37>$J$30,0,IF(H36=0,0,H36-$Y36)) -> 0 | J37: =IF($X37>$J$30,0,IF(I36=0,0,I36-$Y36)) -> 0 | K37: =IF($X37>$J$30,0,IF(J36=0,0,J36-$Y36)) -> 0 | ... O37: =IF($X37>$J$30,0,IF(N36=0,0,N36-$Y36)) -> 0 | Q37: =(B37+C37)*Q$32 -> 0 | R37: =(D37+E37)*R$32 -> 0 | S37: =(F37+G37)*S$32 -> 0 | T37: =(H37+I37)*T$32 -> 0 | U37: =(J37+K37)*U$32 -> 0 | V37: =(L37+M37)*V$32 -> 0 | W37: =(N37+O37)*W$32 -> 0 | X37: 3 | Z37: =IF(X36<$J$30,IF($B$35>0,SUM($Y$35:Y36)/$B$35,0),0) -> 0
A38: Cuarto | B38: =IF($X38>$J$30,0,IF(AA37=0,0,AA37-$Y37)) -> 0 | C38: =IF($X38>$J$30,0,IF($Y37>B37,0,B37-$Y37)) -> 0 | D38: =IF($X38>$J$30,0,IF($Y37>C37,0,C37-$Y37)) -> 0 | E38: =IF($X38>$J$30,0,IF(D37=0,0,D37-$Y37)) -> 0 | F38: =IF($X38>$J$30,0,IF(E37=0,0,E37-$Y37)) -> 0 | G38: =IF($X38>$J$30,0,IF(F37=0,0,F37-$Y37)) -> 0 | H38: =IF($X38>$J$30,0,IF(G37=0,0,G37-$Y37)) -> 0 | I38: =IF($X38>$J$30,0,IF(H37=0,0,H37-$Y37)) -> 0 | J38: =IF($X38>$J$30,0,IF(I37=0,0,I37-$Y37)) -> 0 | K38: =IF($X38>$J$30,0,IF(J37=0,0,J37-$Y37)) -> 0 | L38: =IF($X38>$J$30,0,IF(K37=0,0,K37-$Y37)) -> 0 | ... O38: =IF($X38>$J$30,0,IF(N37=0,0,N37-$Y37)) -> 0 | Q38: =(B38+C38)*Q$32 -> 0 | R38: =(D38+E38)*R$32 -> 0 | S38: =(F38+G38)*S$32 -> 0 | T38: =(H38+I38)*T$32 -> 0 | U38: =(J38+K38)*U$32 -> 0 | V38: =(L38+M38)*V$32 -> 0 | W38: =(N38+O38)*W$32 -> 0 | X38: 4 | Z38: =IF(X37<$J$30,IF($B$35>0,SUM($Y$35:Y37)/$B$35,0),0) -> 0
A39: Quinto | B39: =IF($X39>$J$30,0,IF(AA38=0,0,AA38-$Y38)) -> 0 | C39: =IF($X39>$J$30,0,IF($Y38>B38,0,B38-$Y38)) -> 0 | D39: =IF($X39>$J$30,0,IF($Y38>C38,0,C38-$Y38)) -> 0 | E39: =IF($X39>$J$30,0,IF($Y38>D38,0,D38-$Y38)) -> 0 | F39: =IF($X39>$J$30,0,IF(E38=0,0,E38-$Y38)) -> 0 | G39: =IF($X39>$J$30,0,IF(F38=0,0,F38-$Y38)) -> 0 | H39: =IF($X39>$J$30,0,IF(G38=0,0,G38-$Y38)) -> 0 | I39: =IF($X39>$J$30,0,IF(H38=0,0,H38-$Y38)) -> 0 | J39: =IF($X39>$J$30,0,IF(I38=0,0,I38-$Y38)) -> 0 | K39: =IF($X39>$J$30,0,IF(J38=0,0,J38-$Y38)) -> 0 | L39: =IF($X39>$J$30,0,IF(K38=0,0,K38-$Y38)) -> 0 | M39: =IF($X39>$J$30,0,IF(L38=0,0,L38-$Y38)) -> 0 | ... O39: =IF($X39>$J$30,0,IF(N38=0,0,N38-$Y38)) -> 0 | Q39: =(B39+C39)*Q$32 -> 0 | R39: =(D39+E39)*R$32 -> 0 | S39: =(F39+G39)*S$32 -> 0 | T39: =(H39+I39)*T$32 -> 0 | U39: =(J39+K39)*U$32 -> 0 | V39: =(L39+M39)*V$32 -> 0 | W39: =(N39+O39)*W$32 -> 0 | X39: 5 | Z39: =IF(X38<$J$30,IF($B$35>0,SUM($Y$35:Y38)/$B$35,0),0) -> 0
A40: Sexto | B40: =IF($X40>$J$30,0,IF(AA39=0,0,AA39-$Y39)) -> 0 | C40: =IF($X40>$J$30,0,IF($Y39>B39,0,B39-$Y39)) -> 0 | D40: =IF($X40>$J$30,0,IF($Y39>C39,0,C39-$Y39)) -> 0 | E40: =IF($X40>$J$30,0,IF($Y39>D39,0,D39-$Y39)) -> 0 | F40: =IF($X40>$J$30,0,IF($Y39>E39,0,E39-$Y39)) -> 0 | G40: =IF($X40>$J$30,0,IF(F39=0,0,F39-$Y39)) -> 0 | H40: =IF($X40>$J$30,0,IF(G39=0,0,G39-$Y39)) -> 0 | I40: =IF($X40>$J$30,0,IF(H39=0,0,H39-$Y39)) -> 0 | J40: =IF($X40>$J$30,0,IF(I39=0,0,I39-$Y39)) -> 0 | K40: =IF($X40>$J$30,0,IF(J39=0,0,J39-$Y39)) -> 0 | L40: =IF($X40>$J$30,0,IF(K39=0,0,K39-$Y39)) -> 0 | M40: =IF($X40>$J$30,0,IF(L39=0,0,L39-$Y39)) -> 0 | N40: =IF($X40>$J$30,0,IF(M39=0,0,M39-$Y39)) -> 0 | O40: =IF($X40>$J$30,0,IF(N39=0,0,N39-$Y39)) -> 0 | Q40: =(B40+C40)*Q$32 -> 0 | R40: =(D40+E40)*R$32 -> 0 | S40: =(F40+G40)*S$32 -> 0 | T40: =(H40+I40)*T$32 -> 0 | U40: =(J40+K40)*U$32 -> 0 | V40: =(L40+M40)*V$32 -> 0 | W40: =(N40+O40)*W$32 -> 0 | X40: 6 | Z40: =IF(X39<$J$30,IF($B$35>0,SUM($Y$35:Y39)/$B$35,0),0) -> 0
A41: Septimo | B41: =IF($X41>$J$30,0,IF(AA40=0,0,AA40-$Y40)) -> 0 | C41: =IF($X41>$J$30,0,IF($Y40>B40,0,B40-$Y40)) -> 0 | D41: =IF($X41>$J$30,0,IF($Y40>C40,0,C40-$Y40)) -> 0 | E41: =IF($X41>$J$30,0,IF($Y40>D40,0,D40-$Y40)) -> 0 | F41: =IF($X41>$J$30,0,IF($Y40>E40,0,E40-$Y40)) -> 0 | G41: =IF($X41>$J$30,0,IF($Y40>F40,0,F40-$Y40)) -> 0 | H41: =IF($X41>$J$30,0,IF(G40=0,0,G40-$Y40)) -> 0 | I41: =IF($X41>$J$30,0,IF(H40=0,0,H40-$Y40)) -> 0 | J41: =IF($X41>$J$30,0,IF(I40=0,0,I40-$Y40)) -> 0 | K41: =IF($X41>$J$30,0,IF(J40=0,0,J40-$Y40)) -> 0 | L41: =IF($X41>$J$30,0,IF(K40=0,0,K40-$Y40)) -> 0 | M41: =IF($X41>$J$30,0,IF(L40=0,0,L40-$Y40)) -> 0 | N41: =IF($X41>$J$30,0,IF(M40=0,0,M40-$Y40)) -> 0 | O41: =IF($X41>$J$30,0,IF(N40=0,0,N40-$Y40)) -> 0 | Q41: =(B41+C41)*Q$32 -> 0 | R41: =(D41+E41)*R$32 -> 0 | S41: =(F41+G41)*S$32 -> 0 | T41: =(H41+I41)*T$32 -> 0 | U41: =(J41+K41)*U$32 -> 0 | V41: =(L41+M41)*V$32 -> 0 | W41: =(N41+O41)*W$32 -> 0 | X41: 7 | Z41: =IF(X40<$J$30,IF($B$35>0,SUM($Y$35:Y40)/$B$35,0),0) -> 0
A42: Octavo | B42: =IF($X42>$J$30,0,IF(AA41=0,0,AA41-$Y41)) -> 0 | C42: =IF($X42>$J$30,0,IF($Y41>B41,0,B41-$Y41)) -> 0 | D42: =IF($X42>$J$30,0,IF($Y41>C41,0,C41-$Y41)) -> 0 | E42: =IF($X42>$J$30,0,IF($Y41>D41,0,D41-$Y41)) -> 0 | F42: =IF($X42>$J$30,0,IF($Y41>E41,0,E41-$Y41)) -> 0 | G42: =IF($X42>$J$30,0,IF($Y41>F41,0,F41-$Y41)) -> 0 | H42: =IF($X42>$J$30,0,IF($Y41>G41,0,G41-$Y41)) -> 0 | I42: =IF($X42>$J$30,0,IF(H41=0,0,H41-$Y41)) -> 0 | J42: =IF($X42>$J$30,0,IF(I41=0,0,I41-$Y41)) -> 0 | K42: =IF($X42>$J$30,0,IF(J41=0,0,J41-$Y41)) -> 0 | L42: =IF($X42>$J$30,0,IF(K41=0,0,K41-$Y41)) -> 0 | M42: =IF($X42>$J$30,0,IF(L41=0,0,L41-$Y41)) -> 0 | N42: =IF($X42>$J$30,0,IF(M41=0,0,M41-$Y41)) -> 0 | O42: =IF($X42>$J$30,0,IF(N41=0,0,N41-$Y41)) -> 0 | Q42: =(B42+C42)*Q$32 -> 0 | R42: =(D42+E42)*R$32 -> 0 | S42: =(F42+G42)*S$32 -> 0 | T42: =(H42+I42)*T$32 -> 0 | U42: =(J42+K42)*U$32 -> 0 | V42: =(L42+M42)*V$32 -> 0 | W42: =(N42+O42)*W$32 -> 0 | X42: 8 | Z42: =IF(X41<$J$30,IF($B$35>0,SUM($Y$35:Y41)/$B$35,0),0) -> 0
A43: Noveno | B43: =IF($X43>$J$30,0,IF(AA42=0,0,AA42-$Y42)) -> 0 | C43: =IF($X43>$J$30,0,IF($Y42>B42,0,B42-$Y42)) -> 0 | D43: =IF($X43>$J$30,0,IF($Y42>C42,0,C42-$Y42)) -> 0 | E43: =IF($X43>$J$30,0,IF($Y42>D42,0,D42-$Y42)) -> 0 | F43: =IF($X43>$J$30,0,IF($Y42>E42,0,E42-$Y42)) -> 0 | G43: =IF($X43>$J$30,0,IF($Y42>F42,0,F42-$Y42)) -> 0 | H43: =IF($X43>$J$30,0,IF($Y42>G42,0,G42-$Y42)) -> 0 | I43: =IF($X43>$J$30,0,IF($Y42>H42,0,H42-$Y42)) -> 0 | J43: =IF($X43>$J$30,0,IF(I42=0,0,I42-$Y42)) -> 0 | K43: =IF($X43>$J$30,0,IF(J42=0,0,J42-$Y42)) -> 0 | L43: =IF($X43>$J$30,0,IF(K42=0,0,K42-$Y42)) -> 0 | M43: =IF($X43>$J$30,0,IF(L42=0,0,L42-$Y42)) -> 0 | N43: =IF($X43>$J$30,0,IF(M42=0,0,M42-$Y42)) -> 0 | O43: =IF($X43>$J$30,0,IF(N42=0,0,N42-$Y42)) -> 0 | Q43: =(B43+C43)*Q$32 -> 0 | R43: =(D43+E43)*R$32 -> 0 | S43: =(F43+G43)*S$32 -> 0 | T43: =(H43+I43)*T$32 -> 0 | U43: =(J43+K43)*U$32 -> 0 | V43: =(L43+M43)*V$32 -> 0 | W43: =(N43+O43)*W$32 -> 0 | X43: 9 | Z43: =IF(X42<$J$30,IF($B$35>0,SUM($Y$35:Y42)/$B$35,0),0) -> 0
A44: Decimo | B44: =IF($X44>$J$30,0,IF(AA43=0,0,AA43-$Y43)) -> 0 | C44: =IF($X44>$J$30,0,IF($Y43>B43,0,B43-$Y43)) -> 0 | D44: =IF($X44>$J$30,0,IF($Y43>C43,0,C43-$Y43)) -> 0 | E44: =IF($X44>$J$30,0,IF($Y43>D43,0,D43-$Y43)) -> 0 | F44: =IF($X44>$J$30,0,IF($Y43>E43,0,E43-$Y43)) -> 0 | G44: =IF($X44>$J$30,0,IF($Y43>F43,0,F43-$Y43)) -> 0 | H44: =IF($X44>$J$30,0,IF($Y43>G43,0,G43-$Y43)) -> 0 | I44: =IF($X44>$J$30,0,IF($Y43>H43,0,H43-$Y43)) -> 0 | J44: =IF($X44>$J$30,0,IF($Y43>I43,0,I43-$Y43)) -> 0 | K44: =IF($X44>$J$30,0,IF(J43=0,0,J43-$Y43)) -> 0 | L44: =IF($X44>$J$30,0,IF(K43=0,0,K43-$Y43)) -> 0 | M44: =IF($X44>$J$30,0,IF(L43=0,0,L43-$Y43)) -> 0 | N44: =IF($X44>$J$30,0,IF(M43=0,0,M43-$Y43)) -> 0 | O44: =IF($X44>$J$30,0,IF(N43=0,0,N43-$Y43)) -> 0 | Q44: =(B44+C44)*Q$32 -> 0 | R44: =(D44+E44)*R$32 -> 0 | S44: =(F44+G44)*S$32 -> 0 | T44: =(H44+I44)*T$32 -> 0 | U44: =(J44+K44)*U$32 -> 0 | V44: =(L44+M44)*V$32 -> 0 | W44: =(N44+O44)*W$32 -> 0 | X44: 10 | Z44: =IF(X43<$J$30,IF($B$35>0,SUM($Y$35:Y43)/$B$35,0),0) -> 0
A45: Once | B45: =IF($X45>$J$30,0,IF(AA44=0,0,AA44-$Y44)) -> 0 | C45: =IF($X45>$J$30,0,IF($Y44>B44,0,B44-$Y44)) -> 0 | D45: =IF($X45>$J$30,0,IF($Y44>C44,0,C44-$Y44)) -> 0 | E45: =IF($X45>$J$30,0,IF($Y44>D44,0,D44-$Y44)) -> 0 | F45: =IF($X45>$J$30,0,IF($Y44>E44,0,E44-$Y44)) -> 0 | G45: =IF($X45>$J$30,0,IF($Y44>F44,0,F44-$Y44)) -> 0 | H45: =IF($X45>$J$30,0,IF($Y44>G44,0,G44-$Y44)) -> 0 | I45: =IF($X45>$J$30,0,IF($Y44>H44,0,H44-$Y44)) -> 0 | J45: =IF($X45>$J$30,0,IF($Y44>I44,0,I44-$Y44)) -> 0 | K45: =IF($X45>$J$30,0,IF($Y44>J44,0,J44-$Y44)) -> 0 | L45: =IF($X45>$J$30,0,IF(K44=0,0,K44-$Y44)) -> 0 | M45: =IF($X45>$J$30,0,IF(L44=0,0,L44-$Y44)) -> 0 | N45: =IF($X45>$J$30,0,IF(M44=0,0,M44-$Y44)) -> 0 | O45: =IF($X45>$J$30,0,IF(N44=0,0,N44-$Y44)) -> 0 | Q45: =(B45+C45)*Q$32 -> 0 | R45: =(D45+E45)*R$32 -> 0 | S45: =(F45+G45)*S$32 -> 0 | T45: =(H45+I45)*T$32 -> 0 | U45: =(J45+K45)*U$32 -> 0 | V45: =(L45+M45)*V$32 -> 0 | W45: =(N45+O45)*W$32 -> 0 | X45: 11 | Z45: =IF(X44<$J$30,IF($B$35>0,SUM($Y$35:Y44)/$B$35,0),0) -> 0
A46: Doce | B46: =IF($X46>$J$30,0,IF(AA45=0,0,AA45-$Y45)) -> 0 | C46: =IF($X46>$J$30,0,IF($Y45>B45,0,B45-$Y45)) -> 0 | D46: =IF($X46>$J$30,0,IF($Y45>C45,0,C45-$Y45)) -> 0 | E46: =IF($X46>$J$30,0,IF($Y45>D45,0,D45-$Y45)) -> 0 | F46: =IF($X46>$J$30,0,IF($Y45>E45,0,E45-$Y45)) -> 0 | G46: =IF($X46>$J$30,0,IF($Y45>F45,0,F45-$Y45)) -> 0 | H46: =IF($X46>$J$30,0,IF($Y45>G45,0,G45-$Y45)) -> 0 | I46: =IF($X46>$J$30,0,IF($Y45>H45,0,H45-$Y45)) -> 0 | J46: =IF($X46>$J$30,0,IF($Y45>I45,0,I45-$Y45)) -> 0 | ... L46: =IF($X46>$J$30,0,IF($Y45>K45,0,K45-$Y45)) -> 0 | M46: =IF($X46>$J$30,0,IF(L45=0,0,L45-$Y45)) -> 0 | N46: =IF($X46>$J$30,0,IF(M45=0,0,M45-$Y45)) -> 0 | O46: =IF($X46>$J$30,0,IF(N45=0,0,N45-$Y45)) -> 0 | Q46: =(B46+C46)*Q$32 -> 0 | R46: =(D46+E46)*R$32 -> 0 | S46: =(F46+G46)*S$32 -> 0 | T46: =(H46+I46)*T$32 -> 0 | U46: =(J46+K46)*U$32 -> 0 | V46: =(L46+M46)*V$32 -> 0 | W46: =(N46+O46)*W$32 -> 0 | X46: 12 | Z46: =IF(X45<$J$30,IF($B$35>0,SUM($Y$35:Y45)/$B$35,0),0) -> 0
A47: Total | B47: =SUM(B35:B46) -> 0 | C47: =SUM(C35:C46) -> 0 | D47: =SUM(D35:D46) -> 0 | E47: =SUM(E35:E46) -> 0 | F47: =SUM(F35:F46) -> 0 | G47: =SUM(G35:G46) -> 0 | H47: =SUM(H35:H46) -> 0 | I47: =SUM(I35:I46) -> 0 | ... O47: =SUM(O35:O46) -> 0 | Q47: =SUM(Q35:Q46) -> 0 | R47: =SUM(R35:R46) -> 0 | S47: =SUM(S35:S46) -> 0 | T47: =SUM(T35:T46) -> 0 | U47: =SUM(U35:U46) -> 0 | V47: =SUM(V35:V46) -> 0 | W47: =SUM(W35:W46) -> 0
A50: INGRESO POR DERECHOS DE GRADO
Q51: =P54 -> 1135149 | R51: =+Q51*(1+$R$7) -> 1191906.4 | S51: =+R51*(1+$R$7) -> 1251501.8 | T51: =+S51*(1+$R$7) -> 1314076.9 | U51: =+T51*(1+$R$7) -> 1379780.7 | V51: =+U51*(1+$R$7) -> 1448769.7 | W51: =+V51*(1+$R$7) -> 1521208.2
...

Sheet COSTOS Y GASTOS
A2: #VALUE! | B2: #VALUE! | C2: FORMATO Presupuesto para el Ministerio de Educación Nacional | G2: Código: R-PO003
G3: Versión: 014
C4: PROCESO Planeación Financiera | G4: Fecha de vigencia: 03/08/2026
A6: ANEXOS COSTOS Y GASTOS | J6: DILIGENCIE SOLO LAS CELDAS EN COLOR GRIS ACORDE CON LA INSTRUCCIÓN DE LA NOTA
A8: PERSONAL ADMINISTRATIVO
A9: CARGO | B9: No. REQUERIDO | C9: SUELDO BASE | D9: AUX TRANSPORTE | E9: COSTO AÑO SUELDO | F9: FACTOR PRESTACIÓN | G9: TOTAL PERSONAL
F10: 0.52
E11: =((C11+D11)*B11)*11.5 -> 0 | F11: =E11*$F$10 -> 0 | G11: =E11+F11 -> 0
E12: =((C12+D12)*B12)*11.5 -> 0 | F12: =E12*$F$10 -> 0 | G12: =E12+F12 -> 0
A13: TOTAL | E13: =SUM(E11:E12) -> 0 | F13: =SUM(F11:F12) -> 0 | G13: =SUM(G11:G12) -> 0
A16: OTROS GASTOS DE PERSONAL ADMINISTRATIVO
A17: CONCEPTO | B17: No. REQUERIDO | C17: VALOR UNITARIO | D17: VALOR TOTAL | E17: OBSERVACIONES
D19: =+B19*C19 -> 0
D20: =+B20*C20 -> 0
A21: TOTAL | D21: =SUM(D19:D20) -> 0
A24: OTROS GASTOS DE PERSONAL DOCENTE
A25: CONCEPTO | B25: No. REQUERIDO | C25: VALOR UNITARIO | D25: VALOR TOTAL | E25: OBSERVACIONES
D27: =+B27*C27 -> 0
D28: =+B28*C28 -> 0
A29: TOTAL | D29: =SUM(D27:D28) -> 0
A32: HONORARIOS DOCENTES Y/O CONFERENCISTAS
A33: CONCEPTO | B33: MOTIVO | C33: No. DE HORAS | D33: V/HORA | E33: VALOR TOTAL | F33: OBSERVACIONES
A34: Docentes año 1 | C34: =+'ESTUDIANTES Y DOCENTES'!D$51+'ESTUDIANTES Y DOCENTES'!F$51 -> 0 | D34: =TARIFAS!C5 -> 51779 | E34: =+C34*D34 -> 0
A35: Docentes año 2 | C35: =+'ESTUDIANTES Y DOCENTES'!H$51+'ESTUDIANTES Y DOCENTES'!J$51 -> 0 | D35: =+D34*(1+CONSOLIDADO!G$77) -> 54367.95 | E35: =+C35*D35 -> 0
A36: Docentes año 3 | C36: =+'ESTUDIANTES Y DOCENTES'!L$51+'ESTUDIANTES Y DOCENTES'!N$51 -> 0 | D36: =+D35*(1+CONSOLIDADO!H$77) -> 57086.348 | E36: =+C36*D36 -> 0
A37: Docentes año 4 | C37: =+'ESTUDIANTES Y DOCENTES'!P$51+'ESTUDIANTES Y DOCENTES'!R$51 -> 0 | D37: =+D36*(1+CONSOLIDADO!I$77) -> 59940.665 | E37: =+C37*D37 -> 0
A38: Docentes año 5 | C38: =+'ESTUDIANTES Y DOCENTES'!T$51+'ESTUDIANTES Y DOCENTES'!V$51 -> 0 | D38: =+D37*(1+CONSOLIDADO!J$77) -> 62937.698 | E38: =+C38*D38 -> 0
A39: Docentes año 6 | C39: ='ESTUDIANTES Y DOCENTES'!X51+'ESTUDIANTES Y DOCENTES'!Z51 -> 0 | D39: =+D38*(1+CONSOLIDADO!K$77) -> 66084.583 | E39: =+C39*D39 -> 0
A40: Docentes año 7 | C40: ='ESTUDIANTES Y DOCENTES'!AB51+'ESTUDIANTES Y DOCENTES'!AD51 -> 0 | D40: =+D39*(1+CONSOLIDADO!L$77) -> 69388.812 | E40: =+C40*D40 -> 0
A41: TOTAL | C41: =SUM(C34:C40) -> 0 | E41: =SUM(E34:E40) -> 0
A44: HONORARIOS POR ASESORIAS
A45: CONCEPTO | B45: MOTIVO | C45: CASO | D45: VALOR | E45: VALOR TOTAL | F45: OBSERVACIONES
E46: =+C46*D46 -> 0
E47: =+C47*D47 -> 0
E48: =+C48*D48 -> 0
E49: =+C49*D49 -> 0
A50: TOTAL | E50: =SUM(E46:E49) -> 0
A53: HONORARIOS POR TRABAJOS ESPECIALES
A54: CONCEPTO | B54: MOTIVO | C54: CANTIDAD | D54: VALOR | E54: VALOR TOTAL | F54: OBSERVACIONES
E55: =+D55*C55 -> 0
...

Sheet ESTUDIANTES Y DOCENTES
B2: #VALUE! | I2: #VALUE! | P2: FORMATO Presupuesto para el Ministerio de Educación Nacional | AP2: Código: R-PO003
AP3: Versión: 014
P4: PROCESO Planeación Financiera | AP4: Fecha de vigencia: 03/08/2026
B8: COMPORTAMIENTO DE LA MATRICULA DE ESTUDIANTES EN LA COHORTE INICIAL | P8: DILIGENCIE SOLO LAS CELDAS EN COLOR GRIS ACORDE CON LA INSTRUCCIÓN DE LA NOTA
B9: Semestre | C9: =INGRESOS!B$12 -> 2027 | E9: =INGRESOS!D$12 -> 2028 | G9: =INGRESOS!F$12 -> 2029 | I9: =INGRESOS!H$12 -> 2030 | K9: =INGRESOS!J$12 -> 2031 | M9: =INGRESOS!L$12 -> 2032
C10: =INGRESOS!B$13 -> PERIODO A | D10: =INGRESOS!C$13 -> PERIODO B | E10: =INGRESOS!D$13 -> PERIODO A | F10: =INGRESOS!E$13 -> PERIODO B | G10: =INGRESOS!F$13 -> PERIODO A | H10: =INGRESOS!G$13 -> PERIODO B | I10: =INGRESOS!H$13 -> PERIODO A | J10: =INGRESOS!I$13 -> PERIODO B | ... N10: =INGRESOS!M$13 -> PERIODO B
B11: =+INGRESOS!A35 -> Primero | C11: =+INGRESOS!B35 -> 0
B12: =+INGRESOS!A36 -> Segundo | D12: =+INGRESOS!C36 -> 0
B13: =+INGRESOS!A37 -> Tercero | E13: =+INGRESOS!D37 -> 0
B14: =+INGRESOS!A38 -> Cuarto | F14: =+INGRESOS!E38 -> 0
B15: =+INGRESOS!A39 -> Quinto | G15: =+INGRESOS!F39 -> 0
B16: =+INGRESOS!A40 -> Sexto | H16: =+INGRESOS!G40 -> 0
B17: =+INGRESOS!A41 -> Septimo | I17: =+INGRESOS!H41 -> 0
B18: =+INGRESOS!A42 -> Octavo | J18: =+INGRESOS!I42 -> 0
B19: =+INGRESOS!A43 -> Noveno | K19: =+INGRESOS!J43 -> 0
B20: =+INGRESOS!A44 -> Decimo | L20: =+INGRESOS!K44 -> 0
B21: =+INGRESOS!A45 -> Once | M21: =+INGRESOS!L45 -> 0
B22: =+INGRESOS!A46 -> Doce | N22: =+INGRESOS!M46 -> 0
B23: Graduados | C23: =IF(INGRESOS!$J$30=1,INGRESOS!C$54,0) -> 0 | D23: =IF(INGRESOS!$J$30=2,INGRESOS!D$54,0) -> 0 | E23: =IF(INGRESOS!$J$30=3,INGRESOS!E$54,0) -> 0 | F23: =IF(INGRESOS!$J$30=4,INGRESOS!F$54,0) -> 0 | G23: =IF(INGRESOS!$J$30=5,INGRESOS!G$54,0) -> 0 | H23: =IF(INGRESOS!$J$30=6,INGRESOS!H$54,0) -> 0 | I23: =IF(INGRESOS!$J$30=7,INGRESOS!I$54,0) -> 0 | J23: =IF(INGRESOS!$J$30=8,INGRESOS!J$54,0) -> 0 | K23: =IF(INGRESOS!$J$30=9,INGRESOS!K$54,0) -> 0 | L23: =IF(INGRESOS!$J$30=10,INGRESOS!L$54,0) -> 0 | M23: =IF(INGRESOS!$J$30=11,INGRESOS!M$54,0) -> 0 | N23: =IF(INGRESOS!$J$30=12,INGRESOS!N$54,0) -> 0
B24: Deserción Acumulada | D24: =INGRESOS!$Z$36 -> 0 | E24: =INGRESOS!$Z$37 -> 0 | F24: =INGRESOS!$Z$38 -> 0 | G24: =INGRESOS!$Z$39 -> 0 | H24: =INGRESOS!$Z$40 -> 0 | I24: =INGRESOS!$Z$41 -> 0 | J24: =INGRESOS!$Z$42 -> 0 | K24: =INGRESOS!$Z$43 -> 0 | L24: =INGRESOS!$Z$44 -> 0 | M24: =INGRESOS!$Z$45 -> 0 | N24: =INGRESOS!$Z$46 -> 0
B25: Deserción a la Titulación | D25: =IF(D23=0," ",IF($C$11=0,0,($C$11-D23)/$C$11)) | E25: =IF(E23=0," ",IF($C$11=0,0,($C$11-E23)/$C$11)) | F25: =IF(F23=0," ",IF($C$11=0,0,($C$11-F23)/$C$11)) | G25: =IF(G23=0," ",IF($C$11=0,0,($C$11-G23)/$C$11)) | H25: =IF(H23=0," ",IF($C$11=0,0,($C$11-H23)/$C$11)) | I25: =IF(I23=0," ",IF($C$11=0,0,($C$11-I23)/$C$11)) | J25: =IF(J23=0," ",IF($C$11=0,0,($C$11-J23)/$C$11)) | K25: =IF(K23=0," ",IF($C$11=0,0,($C$11-K23)/$C$11)) | ... N25: =IF(N23=0," ",IF($C$11=0,0,($C$11-N23)/$C$11))
B27: =CONCATENATE("Un Crédito Académico son 48 horas (",B28," con acompañamieto (sincrónicas) y ",48-B28," independientes (asincrónicas))") -> Un Crédito Académico son 48 horas (16 con acompañamieto (sincrónicas) y 32 independientes (asincrónicas))
B28: 16 | E28: indica una relación de 1 a | F28: =48/B28-1 -> 2 | G28: Con Acompañamiento (sincrónico) / Independiente (asincrónico) | AN28: Información de Estructura Actual
B29: CRÉDITOS Y HORAS DE DOCENCIA PRESENCIAL REQUERIDAS SEMESTRE A SEMESTRE DURANTE LA COHORTE | AI29: 40 | AJ29: POR PRACTICA | AQ29: 40 | AR29: POR PRACTICA
B30: Semestre | C30: Periodo 1 | E30: Periodo 2 | G30: Periodo 3 | I30: Periodo 4 | K30: Periodo 5 | M30: Periodo 6 | O30: Periodo 7 | Q30: Periodo 8 | S30: Periodo 9 | U30: Periodo 10 | W30: Periodo 11 | Y30: Periodo 12 | AA30: Periodo 13 | AC30: Periodo 14 | AF30: CREDITOS | AI30: No. Grup | AJ30: Horas Presenc | AK30: No. Estud | AL30: No. Grupos | AN30: CREDITOS | AQ30: No. Grup | AR30: Horas Presenc | AS30: No. Estud | AT30: No. Grupos
C31: Creditos | D31: Horas | E31: Creditos | F31: Horas | G31: Creditos | H31: Horas | I31: Creditos | J31: Horas | K31: Creditos | L31: Horas | M31: Creditos | N31: Horas | O31: Creditos | P31: Horas | Q31: Creditos | R31: Horas | S31: Creditos | T31: Horas | U31: Creditos | V31: Horas | W31: Creditos | X31: Horas | Y31: Creditos | Z31: Horas | AA31: Creditos | AB31: Horas | AC31: Creditos | AD31: Horas | AF31: Oblig | AG31: Elect | AH31: Pract | AN31: Oblig | AO31: Elect | AP31: Pract
B32: =+B11 -> Primero | C32: =($AF32+$AG32*2+$AH32)*$AI32 -> 0 | D32: =($AF32+$AG32*2)*$AI32*$B$28+$AH32*$AJ32*$AL32 -> 0 | E32: =IF(INGRESOS!$J$10=INGRESOS!$AA$8,0,IF(INGRESOS!$J$10=INGRESOS!$AA$7,0,($AF32+$AG32*2+$AH32)*$AI32)) -> 0 | F32: =IF(INGRESOS!$J$10=INGRESOS!$AA$8,0,IF(INGRESOS!$J$10=INGRESOS!$AA$7,0,($AF32+$AG32*2)*$AI32*$B$28+$AH32*$AJ32*$AL32)) -> 0 | G32: =IF(INGRESOS!$J$10=INGRESOS!$AA$8,0,($AF32+$AG32*2+$AH32)*$AI32) -> 0 | H32: =IF(INGRESOS!$J$10=INGRESOS!$AA$8,0,($AF32+$AG32*2)*$AI32*$B$28+$AH32*$AJ32*$AL32) -> 0 | I32: =IF(INGRESOS!$J$10=INGRESOS!$AA$8,0,IF(INGRESOS!$J$10=INGRESOS!$AA$7,0,($AF32+$AG32*2+$AH32)*$AI32)) -> 0 | J32: =IF(INGRESOS!$J$10=INGRESOS!$AA$8,0,IF(INGRESOS!$J$10=INGRESOS!$AA$7,0,($AF32+$AG32*2)*$AI32*$B$28+$AH32*$AJ32*$AL32)) -> 0 | K32: =IF(INGRESOS!$J$10=INGRESOS!$AA$8,0,($AF32+$AG32*2+$AH32)*$AI32) -> 0 | L32: =IF(INGRESOS!$J$10=INGRESOS!$AA$8,0,($AF32+$AG32*2)*$AI32*$B$28+$AH32*$AJ32*$AL32) -> 0 | M32: =IF(INGRESOS!$J$10=INGRESOS!$AA$8,0,IF(INGRESOS!$J$10=INGRESOS!$AA$7,0,($AF32+$AG32*2+$AH32)*$AI32)) -> 0 | N32: =IF(INGRESOS!$J$10=INGRESOS!$AA$8,0,IF(INGRESOS!$J$10=INGRESOS!$AA$7,0,($AF32+$AG32*2)*$AI32*$B$28+$AH32*$AJ32*$AL32)) -> 0 | O32: =IF(INGRESOS!$J$10=INGRESOS!$AA$8,0,($AF32+$AG32*2+$AH32)*$AI32) -> 0 | P32: =IF(INGRESOS!$J$10=INGRESOS!$AA$8,0,($AF32+$AG32*2)*$AI32*$B$28+$AH32*$AJ32*$AL32) -> 0 | Q32: =IF(INGRESOS!$J$10=INGRESOS!$AA$8,0,IF(INGRESOS!$J$10=INGRESOS!$AA$7,0,($AF32+$AG32*2+$AH32)*$AI32)) -> 0 | R32: =IF(INGRESOS!$J$10=INGRESOS!$AA$8,0,IF(INGRESOS!$J$10=INGRESOS!$AA$7,0,($AF32+$AG32*2)*$AI32*$B$28+$AH32*$AJ32*$AL32)) -> 0 | S32: =IF(INGRESOS!$J$10=INGRESOS!$AA$8,0,($AF32+$AG32*2+$AH32)*$AI32) -> 0 | T32: =IF(INGRESOS!$J$10=INGRESOS!$AA$8,0,($AF32+$AG32*2)*$AI32*$B$28+$AH32*$AJ32*$AL32) -> 0 | U32: =IF(INGRESOS!$J$10=INGRESOS!$AA$8,0,IF(INGRESOS!$J$10=INGRESOS!$AA$7,0,($AF32+$AG32*2+$AH32)*$AI32)) -> 0 | V32: =IF(INGRESOS!$J$10=INGRESOS!$AA$8,0,IF(INGRESOS!$J$10=INGRESOS!$AA$7,0,($AF32+$AG32*2)*$AI32*$B$28+$AH32*$AJ32*$AL32)) -> 0 | W32: =IF(INGRESOS!$J$10=INGRESOS!$AA$8,0,($AF32+$AG32*2+$AH32)*$AI32) -> 0 | X32: =IF(INGRESOS!$J$10=INGRESOS!$AA$8,0,($AF32+$AG32*2)*$AI32*$B$28+$AH32*$AJ32*$AL32) -> 0 | Y32: =IF(INGRESOS!$J$10=INGRESOS!$AA$8,0,IF(INGRESOS!$J$10=INGRESOS!$AA$7,0,($AF32+$AG32*2+$AH32)*$AI32)) -> 0 | Z32: =IF(INGRESOS!$J$10=INGRESOS!$AA$8,0,IF(INGRESOS!$J$10=INGRESOS!$AA$7,0,($AF32+$AG32*2)*$AI32*$B$28+$AH32*$AJ32*$AL32)) -> 0 | AA32: =IF(INGRESOS!$J$10=INGRESOS!$AA$8,0,($AF32+$AG32*2+$AH32)*$AI32) -> 0 | AB32: =IF(INGRESOS!$J$10=INGRESOS!$AA$8,0,($AF32+$AG32*2)*$AI32*$B$28+$AH32*$AJ32*$AL32) -> 0 | AC32: =IF(INGRESOS!$J$10=INGRESOS!$AA$8,0,IF(INGRESOS!$J$10=INGRESOS!$AA$7,0,($AF32+$AG32*2+$AH32)*$AI32)) -> 0 | AD32: =IF(INGRESOS!$J$10=INGRESOS!$AA$8,0,IF(INGRESOS!$J$10=INGRESOS!$AA$7,0,($AF32+$AG32*2)*$AI32*$B$28+$AH32*$AJ32*$AL32)) -> 0 | AF32: =SUM(Malla!$F$10:$F$17)-AH32-AG32 -> 0 | AG32: =SUMIF(Malla!$E$10:$E$17,Malla!$AB$11,Malla!$F$10:$F$17) -> 0 | AH32: =SUMIF(Malla!$D$10:$D$17,Malla!$AA$12,Malla!$F$10:$F$17) -> 0 | AI32: =ROUNDUP(IF($C11=0,0,$C11/$AI$29),0) -> 0 | AL32: =ROUNDUP(IF(AH32>0,C11/AK32,0),0) -> 0 | AN32: =SUM(Malla!$R$10:$R$17)-AP32-AO32 -> 0 | AO32: =SUMIF(Malla!$Q$10:$Q$17,Malla!$AB$11,Malla!$R$10:$R$17) -> 0 | AP32: =SUMIF(Malla!$P$10:$P$17,Malla!$AA$12,Malla!$R$10:$R$17) -> 0 | AQ32: =ROUNDUP(IF(INGRESOS!$AA35=0,0,INGRESOS!$AA35/$AQ$29),0) -> 0 | AT32: =ROUNDUP(IF(AP32>0,C11/AS32,0),0) -> 0
B33: =+B12 -> Segundo | C33: =IF(INGRESOS!$J$10=INGRESOS!$AA$8,0,IF(INGRESOS!$J$10=INGRESOS!$AA$7,0,($AN33+$AO33*2+$AP33)*$AQ33)) -> 0 | D33: =IF(INGRESOS!$J$10=INGRESOS!$AA$8,0,IF(C33=0,0,IF(INGRESOS!$J$10=INGRESOS!$AA$7,0,($AN33+$AO33*2)*$AQ33*$B$28+$AP33*$AR33*$AT33))) -> 0 | E33: =($AF33+$AG33*2+$AH33)*$AI33 -> 0 | F33: =($AF33+$AG33*2)*$AI33*$B$28+$AH33*$AJ33*$AL33 -> 0 | G33: =IF(INGRESOS!$J$10=INGRESOS!$AA$8,0,IF(INGRESOS!$J$10=INGRESOS!$AA$7,0,($AF33+$AG33*2+$AH33)*$AI33)) -> 0 | H33: =IF(INGRESOS!$J$10=INGRESOS!$AA$8,0,IF(INGRESOS!$J$10=INGRESOS!$AA$7,0,($AF33+$AG33*2)*$AI33*$B$28+$AH33*$AJ33*$AL33)) -> 0 | I33: =IF(INGRESOS!$J$10=INGRESOS!$AA$8,0,($AF33+$AG33*2+$AH33)*$AI33) -> 0 | J33: =IF(INGRESOS!$J$10=INGRESOS!$AA$8,0,($AF33+$AG33*2)*$AI33*$B$28+$AH33*$AJ33*$AL33) -> 0 | K33: =IF(INGRESOS!$J$10=INGRESOS!$AA$8,0,IF(INGRESOS!$J$10=INGRESOS!$AA$7,0,($AF33+$AG33*2+$AH33)*$AI33)) -> 0 | L33: =IF(INGRESOS!$J$10=INGRESOS!$AA$8,0,IF(INGRESOS!$J$10=INGRESOS!$AA$7,0,($AF33+$AG33*2)*$AI33*$B$28+$AH33*$AJ33*$AL33)) -> 0 | M33: =IF(INGRESOS!$J$10=INGRESOS!$AA$8,0,($AF33+$AG33*2+$AH33)*$AI33) -> 0 | N33: =IF(INGRESOS!$J$10=INGRESOS!$AA$8,0,($AF33+$AG33*2)*$AI33*$B$28+$AH33*$AJ33*$AL33) -> 0 | O33: =IF(INGRESOS!$J$10=INGRESOS!$AA$8,0,IF(INGRESOS!$J$10=INGRESOS!$AA$7,0,($AF33+$AG33*2+$AH33)*$AI33)) -> 0 | P33: =IF(INGRESOS!$J$10=INGRESOS!$AA$8,0,IF(INGRESOS!$J$10=INGRESOS!$AA$7,0,($AF33+$AG33*2)*$AI33*$B$28+$AH33*$AJ33*$AL33)) -> 0 | Q33: =IF(INGRESOS!$J$10=INGRESOS!$AA$8,0,($AF33+$AG33*2+$AH33)*$AI33) -> 0 | R33: =IF(INGRESOS!$J$10=INGRESOS!$AA$8,0,($AF33+$AG33*2)*$AI33*$B$28+$AH33*$AJ33*$AL33) -> 0 | S33: =IF(INGRESOS!$J$10=INGRESOS!$AA$8,0,IF(INGRESOS!$J$10=INGRESOS!$AA$7,0,($AF33+$AG33*2+$AH33)*$AI33)) -> 0 | T33: =IF(INGRESOS!$J$10=INGRESOS!$AA$8,0,IF(INGRESOS!$J$10=INGRESOS!$AA$7,0,($AF33+$AG33*2)*$AI33*$B$28+$AH33*$AJ33*$AL33)) -> 0 | U33: =IF(INGRESOS!$J$10=INGRESOS!$AA$8,0,($AF33+$AG33*2+$AH33)*$AI33) -> 0 | V33: =IF(INGRESOS!$J$10=INGRESOS!$AA$8,0,($AF33+$AG33*2)*$AI33*$B$28+$AH33*$AJ33*$AL33) -> 0 | W33: =IF(INGRESOS!$J$10=INGRESOS!$AA$8,0,IF(INGRESOS!$J$10=INGRESOS!$AA$7,0,($AF33+$AG33*2+$AH33)*$AI33)) -> 0 | X33: =IF(INGRESOS!$J$10=INGRESOS!$AA$8,0,IF(INGRESOS!$J$10=INGRESOS!$AA$7,0,($AF33+$AG33*2)*$AI33*$B$28+$AH33*$AJ33*$AL33)) -> 0 | Y33: =IF(INGRESOS!$J$10=INGRESOS!$AA$8,0,($AF33+$AG33*2+$AH33)*$AI33) -> 0 | Z33: =IF(INGRESOS!$J$10=INGRESOS!$AA$8,0,($AF33+$AG33*2)*$AI33*$B$28+$AH33*$AJ33*$AL33) -> 0 | AA33: =IF(INGRESOS!$J$10=INGRESOS!$AA$8,0,IF(INGRESOS!$J$10=INGRESOS!$AA$7,0,($AF33+$AG33*2+$AH33)*$AI33)) -> 0 | AB33: =IF(INGRESOS!$J$10=INGRESOS!$AA$8,0,IF(INGRESOS!$J$10=INGRESOS!$AA$7,0,($AF33+$AG33*2)*$AI33*$B$28+$AH33*$AJ33*$AL33)) -> 0 | AC33: =IF(INGRESOS!$J$10=INGRESOS!$AA$8,0,($AF33+$AG33*2+$AH33)*$AI33) -> 0 | AD33: =IF(INGRESOS!$J$10=INGRESOS!$AA$8,0,($AF33+$AG33*2)*$AI33*$B$28+$AH33*$AJ33*$AL33) -> 0 | AF33: =SUM(Malla!$F$18:$F$25)-AH33-AG33 -> 0 | AG33: =SUMIF(Malla!$E$18:$E$25,Malla!$AB$11,Malla!$F$18:$F$25) -> 0 | AH33: =SUMIF(Malla!$D$18:$D$25,Malla!$AA$12,Malla!$F$18:$F$25) -> 0 | AI33: =ROUNDUP(IF($D12=0,0,$D12/$AI$29),0) -> 0 | AL33: =ROUNDUP(IF(AH33>0,D12/AK33,0),0) -> 0 | AN33: =SUM(Malla!$R$18:$R$25)-AP33-AO33 -> 0 | AO33: =SUMIF(Malla!$Q$18:$Q$25,Malla!$AB$11,Malla!$R$18:$R$25) -> 0 | AP33: =SUMIF(Malla!$P$18:$P$25,Malla!$AA$12,Malla!$R$18:$R$25) -> 0 | AQ33: =ROUNDUP(IF(INGRESOS!$AA36=0,0,INGRESOS!$AA36/$AQ$29),0) -> 0 | AT33: =ROUNDUP(IF(AP33>0,D12/AS33,0),0) -> 0
B34: =+B13 -> Tercero | C34: =IF(INGRESOS!$J$10=INGRESOS!$AA$8,0,($AN34+$AO34*2+$AP34)*$AQ34) -> 0 | D34: =IF(INGRESOS!$J$10=INGRESOS!$AA$8,0,IF(C34=0,0,($AN34+$AO34*2)*$AQ34*$B$28+$AP34*$AR34*$AT34)) -> 0 | E34: =IF(INGRESOS!$J$10=INGRESOS!$AA$8,0,IF(INGRESOS!$J$10=INGRESOS!$AA$7,0,($AN34+$AO34*2+$AP34)*$AQ34)) -> 0 | F34: =IF(INGRESOS!$J$10=INGRESOS!$AA$8,0,IF(E34=0,0,($AN34+$AO34*2)*$AQ34*$B$28+$AP34*$AR34*$AT34)) -> 0 | G34: =($AF34+$AG34*2+$AH34)*$AI34 -> 0 | H34: =($AF34+$AG34*2)*$AI34*$B$28+$AH34*$AJ34*$AL34 -> 0 | I34: =IF(INGRESOS!$J$10=INGRESOS!$AA$8,0,IF(INGRESOS!$J$10=INGRESOS!$AA$7,0,($AF34+$AG34*2+$AH34)*$AI34)) -> 0 | J34: =IF(INGRESOS!$J$10=INGRESOS!$AA$8,0,IF(INGRESOS!$J$10=INGRESOS!$AA$7,0,($AF34+$AG34*2)*$AI34*$B$28+$AH34*$AJ34*$AL34)) -> 0 | K34: =IF(INGRESOS!$J$10=INGRESOS!$AA$8,0,($AF34+$AG34*2+$AH34)*$AI34) -> 0 | L34: =IF(INGRESOS!$J$10=INGRESOS!$AA$8,0,($AF34+$AG34*2)*$AI34*$B$28+$AH34*$AJ34*$AL34) -> 0 | M34: =IF(INGRESOS!$J$10=INGRESOS!$AA$8,0,IF(INGRESOS!$J$10=INGRESOS!$AA$7,0,($AF34+$AG34*2+$AH34)*$AI34)) -> 0 | N34: =IF(INGRESOS!$J$10=INGRESOS!$AA$8,0,IF(INGRESOS!$J$10=INGRESOS!$AA$7,0,($AF34+$AG34*2)*$AI34*$B$28+$AH34*$AJ34*$AL34)) -> 0 | O34: =IF(INGRESOS!$J$10=INGRESOS!$AA$8,0,($AF34+$AG34*2+$AH34)*$AI34) -> 0 | P34: =IF(INGRESOS!$J$10=INGRESOS!$AA$8,0,($AF34+$AG34*2)*$AI34*$B$28+$AH34*$AJ34*$AL34) -> 0 | Q34: =IF(INGRESOS!$J$10=INGRESOS!$AA$8,0,IF(INGRESOS!$J$10=INGRESOS!$AA$7,0,($AF34+$AG34*2+$AH34)*$AI34)) -> 0 | R34: =IF(INGRESOS!$J$10=INGRESOS!$AA$8,0,IF(INGRESOS!$J$10=INGRESOS!$AA$7,0,($AF34+$AG34*2)*$AI34*$B$28+$AH34*$AJ34*$AL34)) -> 0 | S34: =IF(INGRESOS!$J$10=INGRESOS!$AA$8,0,($AF34+$AG34*2+$AH34)*$AI34) -> 0 | T34: =IF(INGRESOS!$J$10=INGRESOS!$AA$8,0,($AF34+$AG34*2)*$AI34*$B$28+$AH34*$AJ34*$AL34) -> 0 | U34: =IF(INGRESOS!$J$10=INGRESOS!$AA$8,0,IF(INGRESOS!$J$10=INGRESOS!$AA$7,0,($AF34+$AG34*2+$AH34)*$AI34)) -> 0 | V34: =IF(INGRESOS!$J$10=INGRESOS!$AA$8,0,IF(INGRESOS!$J$10=INGRESOS!$AA$7,0,($AF34+$AG34*2)*$AI34*$B$28+$AH34*$AJ34*$AL34)) -> 0 | W34: =IF(INGRESOS!$J$10=INGRESOS!$AA$8,0,($AF34+$AG34*2+$AH34)*$AI34) -> 0 | X34: =IF(INGRESOS!$J$10=INGRESOS!$AA$8,0,($AF34+$AG34*2)*$AI34*$B$28+$AH34*$AJ34*$AL34) -> 0 | Y34: =IF(INGRESOS!$J$10=INGRESOS!$AA$8,0,IF(INGRESOS!$J$10=INGRESOS!$AA$7,0,($AF34+$AG34*2+$AH34)*$AI34)) -> 0 | Z34: =IF(INGRESOS!$J$10=INGRESOS!$AA$8,0,IF(INGRESOS!$J$10=INGRESOS!$AA$7,0,($AF34+$AG34*2)*$AI34*$B$28+$AH34*$AJ34*$AL34)) -> 0 | AA34: =IF(INGRESOS!$J$10=INGRESOS!$AA$8,0,($AF34+$AG34*2+$AH34)*$AI34) -> 0 | AB34: =IF(INGRESOS!$J$10=INGRESOS!$AA$8,0,($AF34+$AG34*2)*$AI34*$B$28+$AH34*$AJ34*$AL34) -> 0 | AC34: =IF(INGRESOS!$J$10=INGRESOS!$AA$8,0,IF(INGRESOS!$J$10=INGRESOS!$AA$7,0,($AF34+$AG34*2+$AH34)*$AI34)) -> 0 | AD34: =IF(INGRESOS!$J$10=INGRESOS!$AA$8,0,IF(INGRESOS!$J$10=INGRESOS!$AA$7,0,($AF34+$AG34*2)*$AI34*$B$28+$AH34*$AJ34*$AL34)) -> 0 | AF34: =SUM(Malla!$F$26:$F$33)-AH34-AG34 -> 0 | AG34: =SUMIF(Malla!$E$26:$E$33,Malla!$AB$11,Malla!$F$26:$F$33) -> 0 | AH34: =SUMIF(Malla!$D$26:$D$33,Malla!$AA$12,Malla!$F$26:$F$33) -> 0 | AI34: =ROUNDUP(IF($E13=0,0,$E13/$AI$29),0) -> 0 | AL34: =ROUNDUP(IF(AH34>0,E13/AK34,0),0) -> 0 | AN34: =SUM(Malla!$R$26:$R$33)-AP34-AO34 -> 0 | AO34: =SUMIF(Malla!$Q$26:$Q$33,Malla!$AB$11,Malla!$R$26:$R$33) -> 0 | AP34: =SUMIF(Malla!$P$26:$P$33,Malla!$AA$12,Malla!$R$26:$R$33) -> 0 | AQ34: =IF(INGRESOS!$J$30>=INGRESOS!$X37,MAX(AQ32:AQ33),0) -> 0 | AT34: =ROUNDUP(IF(AP34>0,E13/AS34,0),0) -> 0
B35: =+B14 -> Cuarto | C35: =IF(INGRESOS!$J$10=INGRESOS!$AA$8,0,IF(INGRESOS!$J$10=INGRESOS!$AA$7,0,($AN35+$AO35*2+$AP35)*$AQ35)) -> 0 | D35: =IF(INGRESOS!$J$10=INGRESOS!$AA$8,0,IF(C35=0,0,IF(INGRESOS!$J$10=INGRESOS!$AA$7,0,($AN35+$AO35*2)*$AQ35*$B$28+$AP35*$AR35*$AT35))) -> 0 | E35: =IF(INGRESOS!$J$10=INGRESOS!$AA$8,0,($AN35+$AO35*2+$AP35)*$AQ35) -> 0 | F35: =IF(INGRESOS!$J$10=INGRESOS!$AA$8,0,IF(E35=0,0,($AN35+$AO35*2)*$AQ35*$B$28+$AP35*$AR35*$AT35)) -> 0 | G35: =IF(INGRESOS!$J$10=INGRESOS!$AA$8,0,IF(INGRESOS!$J$10=INGRESOS!$AA$7,0,($AN35+$AO35*2+$AP35)*$AQ35)) -> 0 | H35: =IF(INGRESOS!$J$10=INGRESOS!$AA$8,0,IF(G35=0,0,IF(INGRESOS!$J$10=INGRESOS!$AA$7,0,($AN35+$AO35*2)*$AQ35*$B$28+$AP35*$AR35*$AT35))) -> 0 | I35: =($AF35+$AG35*2+$AH35)*$AI35 -> 0 | J35: =($AF35+$AG35*2)*$AI35*$B$28+$AH35*$AJ35*$AL35 -> 0 | K35: =IF(INGRESOS!$J$10=INGRESOS!$AA$8,0,IF(INGRESOS!$J$10=INGRESOS!$AA$7,0,($AF35+$AG35*2+$AH35)*$AI35)) -> 0 | L35: =IF(INGRESOS!$J$10=INGRESOS!$AA$8,0,IF(INGRESOS!$J$10=INGRESOS!$AA$7,0,($AF35+$AG35*2)*$AI35*$B$28+$AH35*$AJ35*$AL35)) -> 0 | M35: =IF(INGRESOS!$J$10=INGRESOS!$AA$8,0,($AF35+$AG35*2+$AH35)*$AI35) -> 0 | N35: =IF(INGRESOS!$J$10=INGRESOS!$AA$8,0,($AF35+$AG35*2)*$AI35*$B$28+$AH35*$AJ35*$AL35) -> 0 | O35: =IF(INGRESOS!$J$10=INGRESOS!$AA$8,0,IF(INGRESOS!$J$10=INGRESOS!$AA$7,0,($AF35+$AG35*2+$AH35)*$AI35)) -> 0 | P35: =IF(INGRESOS!$J$10=INGRESOS!$AA$8,0,IF(INGRESOS!$J$10=INGRESOS!$AA$7,0,($AF35+$AG35*2)*$AI35*$B$28+$AH35*$AJ35*$AL35)) -> 0 | Q35: =IF(INGRESOS!$J$10=INGRESOS!$AA$8,0,($AF35+$AG35*2+$AH35)*$AI35) -> 0 | R35: =IF(INGRESOS!$J$10=INGRESOS!$AA$8,0,($AF35+$AG35*2)*$AI35*$B$28+$AH35*$AJ35*$AL35) -> 0 | S35: =IF(INGRESOS!$J$10=INGRESOS!$AA$8,0,IF(INGRESOS!$J$10=INGRESOS!$AA$7,0,($AF35+$AG35*2+$AH35)*$AI35)) -> 0 | T35: =IF(INGRESOS!$J$10=INGRESOS!$AA$8,0,IF(INGRESOS!$J$10=INGRESOS!$AA$7,0,($AF35+$AG35*2)*$AI35*$B$28+$AH35*$AJ35*$AL35)) -> 0 | U35: =IF(INGRESOS!$J$10=INGRESOS!$AA$8,0,($AF35+$AG35*2+$AH35)*$AI35) -> 0 | V35: =IF(INGRESOS!$J$10=INGRESOS!$AA$8,0,($AF35+$AG35*2)*$AI35*$B$28+$AH35*$AJ35*$AL35) -> 0 | W35: =IF(INGRESOS!$J$10=INGRESOS!$AA$8,0,IF(INGRESOS!$J$10=INGRESOS!$AA$7,0,($AF35+$AG35*2+$AH35)*$AI35)) -> 0 | X35: =IF(INGRESOS!$J$10=INGRESOS!$AA$8,0,IF(INGRESOS!$J$10=INGRESOS!$AA$7,0,($AF35+$AG35*2)*$AI35*$B$28+$AH35*$AJ35*$AL35)) -> 0 | Y35: =IF(INGRESOS!$J$10=INGRESOS!$AA$8,0,($AF35+$AG35*2+$AH35)*$AI35) -> 0 | Z35: =IF(INGRESOS!$J$10=INGRESOS!$AA$8,0,($AF35+$AG35*2)*$AI35*$B$28+$AH35*$AJ35*$AL35) -> 0 | AA35: =IF(INGRESOS!$J$10=INGRESOS!$AA$8,0,IF(INGRESOS!$J$10=INGRESOS!$AA$7,0,($AF35+$AG35*2+$AH35)*$AI35)) -> 0 | AB35: =IF(INGRESOS!$J$10=INGRESOS!$AA$8,0,IF(INGRESOS!$J$10=INGRESOS!$AA$7,0,($AF35+$AG35*2)*$AI35*$B$28+$AH35*$AJ35*$AL35)) -> 0 | AC35: =IF(INGRESOS!$J$10=INGRESOS!$AA$8,0,($AF35+$AG35*2+$AH35)*$AI35) -> 0 | AD35: =IF(INGRESOS!$J$10=INGRESOS!$AA$8,0,($AF35+$AG35*2)*$AI35*$B$28+$AH35*$AJ35*$AL35) -> 0 | AF35: =SUM(Malla!$F$34:$F$41)-AH35-AG35 -> 0 | AG35: =SUMIF(Malla!$E$34:$E$41,Malla!$AB$11,Malla!$F$34:$F$41) -> 0 | AH35: =SUMIF(Malla!$D$34:$D$41,Malla!$AA$12,Malla!$F$34:$F$41) -> 0 | AI35: =ROUNDUP(IF($F14=0,0,$F14/$AI$29),0) -> 0 | AL35: =ROUNDUP(IF(AH35>0,F14/AK35,0),0) -> 0 | AN35: =SUM(Malla!$R$34:$R$41)-AP35-AO35 -> 0 | AO35: =SUMIF(Malla!$Q$34:$Q$41,Malla!$AB$11,Malla!$R$34:$R$41) -> 0 | AP35: =SUMIF(Malla!$P$34:$P$41,Malla!$AA$12,Malla!$R$34:$R$41) -> 0 | AQ35: =IF(INGRESOS!$J$30>=INGRESOS!$X38,AQ34,0) -> 0 | AT35: =ROUNDUP(IF(AP35>0,F14/AS35,0),0) -> 0
B36: =+B15 -> Quinto | C36: =IF(INGRESOS!$J$10=INGRESOS!$AA$8,0,($AN36+$AO36*2+$AP36)*$AQ36) -> 0 | D36: =IF(INGRESOS!$J$10=INGRESOS!$AA$8,0,IF(C36=0,0,($AN36+$AO36*2)*$AQ36*$B$28+$AP36*$AR36*$AT36)) -> 0 | E36: =IF(INGRESOS!$J$10=INGRESOS!$AA$8,0,IF(INGRESOS!$J$10=INGRESOS!$AA$7,0,($AN36+$AO36*2+$AP36)*$AQ36)) -> 0 | F36: =IF(INGRESOS!$J$10=INGRESOS!$AA$8,0,IF(E36=0,0,($AN36+$AO36*2)*$AQ36*$B$28+$AP36*$AR36*$AT36)) -> 0 | G36: =IF(INGRESOS!$J$10=INGRESOS!$AA$8,0,($AN36+$AO36*2+$AP36)*$AQ36) -> 0 | H36: =IF(INGRESOS!$J$10=INGRESOS!$AA$8,0,IF(G36=0,0,($AN36+$AO36*2)*$AQ36*$B$28+$AP36*$AR36*$AT36)) -> 0 | I36: =IF(INGRESOS!$J$10=INGRESOS!$AA$8,0,IF(INGRESOS!$J$10=INGRESOS!$AA$7,0,($AN36+$AO36*2+$AP36)*$AQ36)) -> 0 | J36: =IF(INGRESOS!$J$10=INGRESOS!$AA$8,0,IF(I36=0,0,($AN36+$AO36*2)*$AQ36*$B$28+$AP36*$AR36*$AT36)) -> 0 | K36: =($AF36+$AG36*2+$AH36)*$AI36 -> 0 | L36: =($AF36+$AG36*2)*$AI36*$B$28+$AH36*$AJ36*$AL36 -> 0 | M36: =IF(INGRESOS!$J$10=INGRESOS!$AA$8,0,IF(INGRESOS!$J$10=INGRESOS!$AA$7,0,($AF36+$AG36*2+$AH36)*$AI36)) -> 0 | N36: =IF(INGRESOS!$J$10=INGRESOS!$AA$8,0,IF(INGRESOS!$J$10=INGRESOS!$AA$7,0,($AF36+$AG36*2)*$AI36*$B$28+$AH36*$AJ36*$AL36)) -> 0 | O36: =IF(INGRESOS!$J$10=INGRESOS!$AA$8,0,($AF36+$AG36*2+$AH36)*$AI36) -> 0 | P36: =IF(INGRESOS!$J$10=INGRESOS!$AA$8,0,($AF36+$AG36*2)*$AI36*$B$28+$AH36*$AJ36*$AL36) -> 0 | Q36: =IF(INGRESOS!$J$10=INGRESOS!$AA$8,0,IF(INGRESOS!$J$10=INGRESOS!$AA$7,0,($AF36+$AG36*2+$AH36)*$AI36)) -> 0 | R36: =IF(INGRESOS!$J$10=INGRESOS!$AA$8,0,IF(INGRESOS!$J$10=INGRESOS!$AA$7,0,($AF36+$AG36*2)*$AI36*$B$28+$AH36*$AJ36*$AL36)) -> 0 | S36: =IF(INGRESOS!$J$10=INGRESOS!$AA$8,0,($AF36+$AG36*2+$AH36)*$AI36) -> 0 | T36: =IF(INGRESOS!$J$10=INGRESOS!$AA$8,0,($AF36+$AG36*2)*$AI36*$B$28+$AH36*$AJ36*$AL36) -> 0 | U36: =IF(INGRESOS!$J$10=INGRESOS!$AA$8,0,IF(INGRESOS!$J$10=INGRESOS!$AA$7,0,($AF36+$AG36*2+$AH36)*$AI36)) -> 0 | V36: =IF(INGRESOS!$J$10=INGRESOS!$AA$8,0,IF(INGRESOS!$J$10=INGRESOS!$AA$7,0,($AF36+$AG36*2)*$AI36*$B$28+$AH36*$AJ36*$AL36)) -> 0 | W36: =IF(INGRESOS!$J$10=INGRESOS!$AA$8,0,($AF36+$AG36*2+$AH36)*$AI36) -> 0 | X36: =IF(INGRESOS!$J$10=INGRESOS!$AA$8,0,($AF36+$AG36*2)*$AI36*$B$28+$AH36*$AJ36*$AL36) -> 0 | Y36: =IF(INGRESOS!$J$10=INGRESOS!$AA$8,0,IF(INGRESOS!$J$10=INGRESOS!$AA$7,0,($AF36+$AG36*2+$AH36)*$AI36)) -> 0 | Z36: =IF(INGRESOS!$J$10=INGRESOS!$AA$8,0,IF(INGRESOS!$J$10=INGRESOS!$AA$7,0,($AF36+$AG36*2)*$AI36*$B$28+$AH36*$AJ36*$AL36)) -> 0 | AA36: =IF(INGRESOS!$J$10=INGRESOS!$AA$8,0,($AF36+$AG36*2+$AH36)*$AI36) -> 0 | AB36: =IF(INGRESOS!$J$10=INGRESOS!$AA$8,0,($AF36+$AG36*2)*$AI36*$B$28+$AH36*$AJ36*$AL36) -> 0 | AC36: =IF(INGRESOS!$J$10=INGRESOS!$AA$8,0,IF(INGRESOS!$J$10=INGRESOS!$AA$7,0,($AF36+$AG36*2+$AH36)*$AI36)) -> 0 | AD36: =IF(INGRESOS!$J$10=INGRESOS!$AA$8,0,IF(INGRESOS!$J$10=INGRESOS!$AA$7,0,($AF36+$AG36*2)*$AI36*$B$28+$AH36*$AJ36*$AL36)) -> 0 | AF36: =SUM(Malla!$F$42:$F$49)-AH36-AG36 -> 0 | AG36: =SUMIF(Malla!$E$42:$E$49,Malla!$AB$11,Malla!$F$42:$F$49) -> 0 | AH36: =SUMIF(Malla!$D$42:$D$49,Malla!$AA$12,Malla!$F$42:$F$49) -> 0 | AI36: =ROUNDUP(IF($G15=0,0,$G15/$AI$29),0) -> 0 | AL36: =ROUNDUP(IF(AH36>0,G15/AK36,0),0) -> 0 | AN36: =SUM(Malla!$R$42:$R$49)-AP36-AO36 -> 0 | AO36: =SUMIF(Malla!$Q$42:$Q$49,Malla!$AB$11,Malla!$R$42:$R$49) -> 0 | AP36: =SUMIF(Malla!$P$42:$P$49,Malla!$AA$12,Malla!$R$42:$R$49) -> 0 | AQ36: =IF(INGRESOS!$J$30>=INGRESOS!$X39,AQ35,0) -> 0 | AT36: =ROUNDUP(IF(AP36>0,G15/AS36,0),0) -> 0
B37: =+B16 -> Sexto | C37: =IF(INGRESOS!$J$10=INGRESOS!$AA$8,0,IF(INGRESOS!$J$10=INGRESOS!$AA$7,0,($AN37+$AO37*2+$AP37)*$AQ37)) -> 0 | D37: =IF(INGRESOS!$J$10=INGRESOS!$AA$8,0,IF(C37=0,0,IF(INGRESOS!$J$10=INGRESOS!$AA$7,0,($AN37+$AO37*2)*$AQ37*$B$28+$AP37*$AR37*$AT37))) -> 0 | E37: =IF(INGRESOS!$J$10=INGRESOS!$AA$8,0,($AN37+$AO37*2+$AP37)*$AQ37) -> 0 | F37: =IF(INGRESOS!$J$10=INGRESOS!$AA$8,0,IF(E37=0,0,($AN37+$AO37*2)*$AQ37*$B$28+$AP37*$AR37*$AT37)) -> 0 | G37: =IF(INGRESOS!$J$10=INGRESOS!$AA$8,0,IF(INGRESOS!$J$10=INGRESOS!$AA$7,0,($AN37+$AO37*2+$AP37)*$AQ37)) -> 0 | H37: =IF(INGRESOS!$J$10=INGRESOS!$AA$8,0,IF(G37=0,0,IF(INGRESOS!$J$10=INGRESOS!$AA$7,0,($AN37+$AO37*2)*$AQ37*$B$28+$AP37*$AR37*$AT37))) -> 0 | I37: =IF(INGRESOS!$J$10=INGRESOS!$AA$8,0,($AN37+$AO37*2+$AP37)*$AQ37) -> 0 | J37: =IF(INGRESOS!$J$10=INGRESOS!$AA$8,0,IF(I37=0,0,($AN37+$AO37*2)*$AQ37*$B$28+$AP37*$AR37*$AT37)) -> 0 | K37: =IF(INGRESOS!$J$10=INGRESOS!$AA$8,0,IF(INGRESOS!$J$10=INGRESOS!$AA$7,0,($AN37+$AO37*2+$AP37)*$AQ37)) -> 0 | L37: =IF(INGRESOS!$J$10=INGRESOS!$AA$8,0,IF(K37=0,0,IF(INGRESOS!$J$10=INGRESOS!$AA$7,0,($AN37+$AO37*2)*$AQ37*$B$28+$AP37*$AR37*$AT37))) -> 0 | M37: =($AF37+$AG37*2+$AH37)*$AI37 -> 0 | N37: =($AF37+$AG37*2)*$AI37*$B$28+$AH37*$AJ37*$AL37 -> 0 | O37: =IF(INGRESOS!$J$10=INGRESOS!$AA$8,0,IF(INGRESOS!$J$10=INGRESOS!$AA$7,0,($AF37+$AG37*2+$AH37)*$AI37)) -> 0 | P37: =IF(INGRESOS!$J$10=INGRESOS!$AA$8,0,IF(INGRESOS!$J$10=INGRESOS!$AA$7,0,($AF37+$AG37*2)*$AI37*$B$28+$AH37*$AJ37*$AL37)) -> 0 | Q37: =IF(INGRESOS!$J$10=INGRESOS!$AA$8,0,($AF37+$AG37*2+$AH37)*$AI37) -> 0 | R37: =IF(INGRESOS!$J$10=INGRESOS!$AA$8,0,($AF37+$AG37*2)*$AI37*$B$28+$AH37*$AJ37*$AL37) -> 0 | S37: =IF(INGRESOS!$J$10=INGRESOS!$AA$8,0,IF(INGRESOS!$J$10=INGRESOS!$AA$7,0,($AF37+$AG37*2+$AH37)*$AI37)) -> 0 | T37: =IF(INGRESOS!$J$10=INGRESOS!$AA$8,0,IF(INGRESOS!$J$10=INGRESOS!$AA$7,0,($AF37+$AG37*2)*$AI37*$B$28+$AH37*$AJ37*$AL37)) -> 0 | U37: =IF(INGRESOS!$J$10=INGRESOS!$AA$8,0,($AF37+$AG37*2+$AH37)*$AI37) -> 0 | V37: =IF(INGRESOS!$J$10=INGRESOS!$AA$8,0,($AF37+$AG37*2)*$AI37*$B$28+$AH37*$AJ37*$AL37) -> 0 | W37: =IF(INGRESOS!$J$10=INGRESOS!$AA$8,0,IF(INGRESOS!$J$10=INGRESOS!$AA$7,0,($AF37+$AG37*2+$AH37)*$AI37)) -> 0 | X37: =IF(INGRESOS!$J$10=INGRESOS!$AA$8,0,IF(INGRESOS!$J$10=INGRESOS!$AA$7,0,($AF37+$AG37*2)*$AI37*$B$28+$AH37*$AJ37*$AL37)) -> 0 | Y37: =IF(INGRESOS!$J$10=INGRESOS!$AA$8,0,($AF37+$AG37*2+$AH37)*$AI37) -> 0 | Z37: =IF(INGRESOS!$J$10=INGRESOS!$AA$8,0,($AF37+$AG37*2)*$AI37*$B$28+$AH37*$AJ37*$AL37) -> 0 | AA37: =IF(INGRESOS!$J$10=INGRESOS!$AA$8,0,IF(INGRESOS!$J$10=INGRESOS!$AA$7,0,($AF37+$AG37*2+$AH37)*$AI37)) -> 0 | AB37: =IF(INGRESOS!$J$10=INGRESOS!$AA$8,0,IF(INGRESOS!$J$10=INGRESOS!$AA$7,0,($AF37+$AG37*2)*$AI37*$B$28+$AH37*$AJ37*$AL37)) -> 0 | AC37: =IF(INGRESOS!$J$10=INGRESOS!$AA$8,0,($AF37+$AG37*2+$AH37)*$AI37) -> 0 | AD37: =IF(INGRESOS!$J$10=INGRESOS!$AA$8,0,($AF37+$AG37*2)*$AI37*$B$28+$AH37*$AJ37*$AL37) -> 0 | AF37: =SUM(Malla!$F$50:$F$57)-AH37-AG37 -> 0 | AG37: =SUMIF(Malla!$E$50:$E$57,Malla!$AB$11,Malla!$F$50:$F$57) -> 0 | AH37: =SUMIF(Malla!$D$50:$D$57,Malla!$AA$12,Malla!$F$50:$F$57) -> 0 | AI37: =ROUNDUP(IF($H16=0,0,$H16/$AI$29),0) -> 0 | AL37: =ROUNDUP(IF(AH37>0,H16/AK37,0),0) -> 0 | AN37: =SUM(Malla!$R$50:$R$57)-AP37-AO37 -> 0 | AO37: =SUMIF(Malla!$Q$50:$Q$57,Malla!$AB$11,Malla!$R$50:$R$57) -> 0 | AP37: =SUMIF(Malla!$P$50:$P$57,Malla!$AA$12,Malla!$R$50:$R$57) -> 0 | AQ37: =IF(INGRESOS!$J$30>=INGRESOS!$X40,AQ36,0) -> 0 | AT37: =ROUNDUP(IF(AP37>0,H16/AS37,0),0) -> 0
